BEGIN:VCALENDAR
VERSION:2.0
PRODID:-//ChamberMaster//Event Calendar 2.0//EN
METHOD:PUBLISH
X-PUBLISHED-TTL:P3D
REFRESH-INTERVAL:P3D
CALSCALE:GREGORIAN
BEGIN:VEVENT
DTSTART:20170607T150000Z
DTEND:20170607T173000Z
X-MICROSOFT-CDO-ALLDAYEVENT:FALSE
SUMMARY:Grant Writing Workshop
DESCRIPTION:Blais & Associatse has a proven track record of writing successful grant applications\, winning approximately 83% of all proposals prepared on behalf of clients in 2014. At this workshop you will learn tools of the trade from the very best. Topics include cap and trade funding\, water infrastructure and management funding\, SB 1 grand opportunities and how to influence the grant guideline process.
X-ALT-DESC;FMTTYPE=text/html:Blais&nbsp\;&amp\; Associatse has a proven track record of writing successful grant applications\, winning approximately 83% of all proposals prepared on behalf of clients in 2014. At this workshop you will learn tools of the trade from the very best. Topics include cap and trade funding\, water infrastructure and management funding\, SB 1 grand opportunities and how to influence the grant guideline process.&nbsp\;
LOCATION:Lake Forest Community Center 28000 Rancho Pkwy Lake Forest\, CA 92630
UID:e.887.16169
SEQUENCE:3
DTSTAMP:20260421T032507Z
URL:https://business.nocchamber.com/events/details/grant-writing-workshop-16169
END:VEVENT

END:VCALENDAR
