BEGIN:VCALENDAR
VERSION:2.0
PRODID:-//ChamberMaster//Event Calendar 2.0//EN
METHOD:PUBLISH
X-PUBLISHED-TTL:P3D
REFRESH-INTERVAL:P3D
CALSCALE:GREGORIAN
BEGIN:VEVENT
DTSTART:20180828T160000Z
DTEND:20180828T230000Z
X-MICROSOFT-CDO-ALLDAYEVENT:FALSE
SUMMARY:Grant Writing USA's 2018 Grant Writing Workshop
DESCRIPTION:The Anahime Police Department will be hosting Grant Writing USA's 2018 Grant Writing Class from Tuesday to Wednesday\, August 28-29\, 2018 from 9:00 a.m. to 4:00 p.m. located at the Anaheim PD East Station 8201 East Santa Ana Canyon Road\, Anaheim\, CA 92808.\n\n\n\nGrant Writing Workshop will be teaching both begining and experienced grant writers from city\, county\, state agencies\, nonprofits\, K-12\, colleges and universities. Attendees are not required to work in the same profession as the host agency. \n\n	Workshop location\n	Learning objectives\n	Sample email confirmation after registration\n	Various CEUs and university credit are available for this class. Click here for more details\n\n\n\nTammy Pitts\n\nat Grant Writing USA\n\n(888) 435-7281 Toll free\n\ntammyp@grantwritingusa.com\n\nLucy Mollica\n\nAnaheim Police Department\n\n(714) 765-3862\n\nlmollica@anaheim.net
X-ALT-DESC;FMTTYPE=text/html:The Anahime Police Department will be hosting Grant Writing USA&#39\;s <strong>2018 Grant Writing Class</strong> from Tuesday to Wednesday\, August 28-29\, 2018 from 9:00 a.m. to 4:00 p.m. located at the Anaheim PD East Station 8201 East Santa Ana Canyon Road\, Anaheim\, CA 92808.<br />\n<br />\nGrant Writing Workshop will be teaching both begining and experienced grant writers from city\, county\, state agencies\, nonprofits\, K-12\, colleges and universities. Attendees are not required to work in the same profession as the host agency.&nbsp\;\n<ul>\n	<li><a href="https://maps.google.com/maps?q=8201+East+Santa+Ana+Canyon+Road\,+Anaheim\,+California+92808+(Anaheim+PD+East+Station)" target="_blank">Workshop location</a></li>\n	<li><a href="http://grantwritingusa.com/syllabusgwusa.html">Learning objectives</a></li>\n	<li>Sample&nbsp\;<a href="http://grantwritingusa.com/email08.html">email confirmation</a>&nbsp\;after registration</li>\n	<li>Various CEUs and university credit are available for this class.&nbsp\;Click&nbsp\;<a href="http://grantwritingusa.com/ceu.html">here</a>&nbsp\;for more details</li>\n</ul>\n\n<hr />\n<p><span style="font-family:&quot\;Arial&quot\;\,sans-serif">Tammy Pitts<br />\nat Grant Writing USA<br />\n(888) 435-7281 Toll free<br />\n<a href="mailto:tammyp@grantwritingusa.com" target="_blank">tammyp@grantwritingusa.com</a><o:p></o:p></span></p>\n\n<p><span style="font-family:&quot\;Arial&quot\;\,sans-serif">Lucy Mollica<br />\nAnaheim Police Department<br />\n(714) 765-3862<br />\n<a href="mailto:lmollica@anaheim.net" target="_blank">lmollica@anaheim.net</a><o:p></o:p></span></p>\n
LOCATION:Anaheim PD East Station 8201 East Santa Ana Canyon Road Anaheim\, California 92808
UID:e.887.22568
SEQUENCE:3
DTSTAMP:20260422T091056Z
URL:https://business.nocchamber.com/events/details/grant-writing-usa-s-2018-grant-writing-workshop-22568
END:VEVENT

END:VCALENDAR
