BEGIN:VCALENDAR
VERSION:2.0
PRODID:-//ChamberMaster//Event Calendar 2.0//EN
METHOD:PUBLISH
X-PUBLISHED-TTL:P3D
REFRESH-INTERVAL:P3D
CALSCALE:GREGORIAN
BEGIN:VEVENT
DTSTART:20190221T023000Z
DTEND:20190221T040000Z
X-MICROSOFT-CDO-ALLDAYEVENT:FALSE
SUMMARY:Google Tools to Increase Sales in 2019
DESCRIPTION:Learn how customers find your business online and how to promote your online presence using a free business listing\, search engine optimization (SEO) techniques\, and online advertising. We'll introduce some tools that can help\, including Google Analytics and Google Trends.\n\n\n\nIn this workshop we'll discuss best practices for:\n\n\n	Creating a free Google My Business listing\n	Improving your website's visibility in Google's organic search results\, on all devices\n	Advertising your business on Google
X-ALT-DESC;FMTTYPE=text/html:<p>Learn how customers find your business online and how to promote your online presence using a free business listing\, search engine optimization (SEO) techniques\, and online advertising. We&rsquo\;ll introduce some tools that can help\, including Google Analytics and Google Trends.<br />\n<br />\nIn this workshop we&rsquo\;ll discuss best practices for:</p>\n\n<ul>\n	<li>Creating a free Google My Business listing</li>\n	<li>Improving your website&rsquo\;s visibility in Google&rsquo\;s organic search results\, on all devices</li>\n	<li>Advertising your business on Google</li>\n</ul>\n
LOCATION:Orange County SBDC 2323 N. Broadway\, Room 107 Santa Ana\, CA 92706
UID:e.887.22981
SEQUENCE:3
DTSTAMP:20260422T091021Z
URL:https://business.nocchamber.com/events/details/google-tools-to-increase-sales-in-2019-22981
END:VEVENT

END:VCALENDAR
