BEGIN:VCALENDAR
VERSION:2.0
PRODID:-//ChamberMaster//Event Calendar 2.0//EN
METHOD:PUBLISH
X-PUBLISHED-TTL:P3D
REFRESH-INTERVAL:P3D
CALSCALE:GREGORIAN
BEGIN:VEVENT
DTSTART:20190322T153000Z
DTEND:20190322T173000Z
X-MICROSOFT-CDO-ALLDAYEVENT:FALSE
SUMMARY:Goodwill of OC Fullerton Store Ribbon Cutting
DESCRIPTION:Celebrate the ribbon cutting and grand opening of Goodwill of Orange County's newest store in Fullerton on Friday\, March 22 at 8:30 a.m. The new 7\,800 square-foot store will showcase Goodwill's signature selection of gently used items and provide customers with a modern spin on traditional thrift store shopping. The store has relocated from its previous location on E. Chapman Ave. The ribbon cutting will occur at 8:30 a.m. and the store will open at 9:0 a.m.
X-ALT-DESC;FMTTYPE=text/html:Celebrate the ribbon cutting and grand opening of Goodwill of Orange County&rsquo\;s newest store in Fullerton on Friday\, March 22 at 8:30 a.m. The new 7\,800 square-foot store will showcase Goodwill&rsquo\;s signature selection of gently used items and provide customers with a modern spin on traditional thrift store shopping. The store has relocated from its previous location on E. Chapman Ave. The ribbon cutting will occur at 8:30 a.m. and the store will open at 9:0 a.m.
LOCATION:Goodwill of Orange County 130 N. Raymond Ave. Fullerton\, CA 92831
UID:e.887.23019
SEQUENCE:3
DTSTAMP:20260422T082939Z
URL:https://business.nocchamber.com/events/details/goodwill-of-oc-fullerton-store-ribbon-cutting-23019
END:VEVENT

END:VCALENDAR
