BEGIN:VCALENDAR
VERSION:2.0
PRODID:-//ChamberMaster//Event Calendar 2.0//EN
METHOD:PUBLISH
X-PUBLISHED-TTL:P3D
REFRESH-INTERVAL:P3D
CALSCALE:GREGORIAN
BEGIN:VEVENT
DTSTART:20190916T163000Z
DTEND:20190917T010000Z
X-MICROSOFT-CDO-ALLDAYEVENT:FALSE
SUMMARY:Golf with SLDC at Monarch Beach Golf Resort
DESCRIPTION:41st Annual Golf Tournament Dick Gorrie Invitational Presented by Speech and Language Development Center.\n\nThis the 41st Annual Dick Gorrie Invitational has relocated to Monarch Beach Resort to enjoy a beautiful day on the course and a great sunset view for happy hour.\n\n\n\nSpace is limited and filling up quick. A clinic has been added for those who want to attend but need some help\, and the Cocktail Reception will have a perfect view of the California Sunset.\n\n9:30 a.m. Registration Opens\, Driving Range Open\n\n\n\n10:00 a.m. - 11:30 a.m. Putting Contest\, and Bloody Mary Bar Open\n\n\n\n11:00 a.m  BBQ Lunch will be served for all golfers\n\n\n\n12:00 p.m. Shotgun Start\n\n2:00 p.m. Clinic Session Opens - Putting\, Chipping\, Driving Lessons\n\n5:00 p.m. Sunset Cocktail Party\, Silent Auction\, Helicopter Drop\, and SLDC Student Open Mic Night
X-ALT-DESC;FMTTYPE=text/html:<p>41st Annual Golf Tournament Dick Gorrie Invitational Presented by <a href="https://sldc.net/" target="_blank">Speech and Language Development Center</a>.</p>\n\n<p>This the 41st Annual Dick Gorrie Invitational has relocated to Monarch Beach Resort to enjoy a beautiful day on the course and a great sunset view for happy hour.<br />\n<br />\nSpace is limited and filling up quick.&nbsp\;A clinic has been added for those who want to attend but need some help\, and the&nbsp\;Cocktail Reception will have a perfect view of the California Sunset.</p>\n\n<p>9:30 a.m. Registration Opens\, Driving Range Open<br />\n<br />\n10:00 a.m. - 11:30 a.m. Putting Contest\, and Bloody Mary Bar Open<br />\n<br />\n11:00 a.m&nbsp\; BBQ Lunch will be served for all golfers<br />\n<br />\n12:00 p.m. Shotgun Start</p>\n\n<p>2:00 p.m. Clinic Session Opens - Putting\, Chipping\, Driving Lessons</p>\n\n<p>5:00 p.m. Sunset Cocktail Party\, Silent Auction\, Helicopter Drop\, and SLDC Student Open Mic Night</p>\n\n<p>&nbsp\;</p>\n
LOCATION:Monarch Beach Resort Golf Links 50 Monarch Beach Resort N Dana Point\, CA 92629
UID:e.887.23446
SEQUENCE:3
DTSTAMP:20260422T002800Z
URL:https://business.nocchamber.com/events/details/golf-with-sldc-at-monarch-beach-golf-resort-23446
END:VEVENT

END:VCALENDAR
