BEGIN:VCALENDAR
VERSION:2.0
PRODID:-//ChamberMaster//Event Calendar 2.0//EN
METHOD:PUBLISH
X-PUBLISHED-TTL:P3D
REFRESH-INTERVAL:P3D
CALSCALE:GREGORIAN
BEGIN:VEVENT
DTSTART:20191102T170000Z
DTEND:20191102T213000Z
X-MICROSOFT-CDO-ALLDAYEVENT:FALSE
SUMMARY:Golden Future 50+ Expo
DESCRIPTION:The 9th Annual Golden Future 50+ Expo will feature products\, resources and services for the Southern California Senior community. There will be over 100 local and national vendors\, health screenings\, workshops and more.\n\n	Local and national vendors.\n	Health screenings.\n	Speakers and workshops.\n	Stop and go aging stations.\n	Games\, arts\, crafts\, and shopping.  \n	Job and volunteer opportunities.\n	Beauty\, hair\, and nail makeovers.\n	Goodie bag and hourly door prize.  \n	Tours of Angel Stadium.
X-ALT-DESC;FMTTYPE=text/html:The 9th Annual Golden Future 50+ Expo will feature products\, resources and services for the Southern California Senior community. There will be over 100 local and national vendors\, health screenings\, workshops and more.\n<ul>\n	<li>Local and national vendors.</li>\n	<li>Health screenings.</li>\n	<li>Speakers and workshops.</li>\n	<li>Stop and go aging stations.</li>\n	<li>Games\, arts\, crafts\, and shopping.&nbsp\;&nbsp\;</li>\n	<li>Job and volunteer opportunities.</li>\n	<li>Beauty\, hair\, and nail makeovers.</li>\n	<li>Goodie bag and hourly door prize.&nbsp\;&nbsp\;</li>\n	<li>Tours of Angel Stadium.&nbsp\;&nbsp\;</li>\n</ul>\n
LOCATION:Angel Stadium of Anaheim 2000 E. Gene Autry Way Anaheim\, CA. 92806 (Enter at Gate 6)
UID:e.887.23734
SEQUENCE:3
DTSTAMP:20260421T214007Z
URL:https://business.nocchamber.com/events/details/golden-future-50-expo-23734
END:VEVENT

END:VCALENDAR
