BEGIN:VCALENDAR
VERSION:2.0
PRODID:-//ChamberMaster//Event Calendar 2.0//EN
METHOD:PUBLISH
X-PUBLISHED-TTL:P3D
REFRESH-INTERVAL:P3D
CALSCALE:GREGORIAN
BEGIN:VEVENT
DTSTART;VALUE=DATE:20191101
DTEND;VALUE=DATE:20191102
TRANSP:TRANSPARENT
X-MICROSOFT-CDO-ALLDAYEVENT:TRUE
SUMMARY:Go Over The Edge for Habitat OC
DESCRIPTION:Daredevils and Adrenaline junkies alike have you been looking for an out of the ordinary way to get involved with Habitat OC.\n\n\n\nTake your support for Habitat for Humanity of Orange County to new heights on November 1 and 2\, 2019 by rappelling down the side of the Irvine Marriott!\n\n\n\nOver The Edge for Habitat OC provides the unique opportunity for individuals to raise $1\,000 or more in exchange to rappel from the top of the Irvine Marriott in the heart of OC! No climbing or experience necessary\, just enough courage to go over the edge.\n\n\n\nRegistration is officially open. Sign up by August 16\, 2019 and receive $50 off your registration fee. Use code: e5w7. Don't miss out on the opportunity to reserve your spot as space is limited.\n\n\n\n17 Stories   203 Feet   1 Mission   Help build a world where everyone has a decent place to live.
X-ALT-DESC;FMTTYPE=text/html:<p>Daredevils and Adrenaline junkies alike have you been looking for an out of the ordinary way to get involved with Habitat OC.<br />\n<br />\nTake your support for Habitat for Humanity of Orange County to new heights on November 1 and 2\, 2019 by&nbsp\;rappelling down the side of the Irvine Marriott!<br />\n<br />\n<a data-auth="NotApplicable" href="https://habitatoc.us17.list-manage.com/track/click?u=54471df673144ae3c543d72ec&amp\;id=ead59fdb38&amp\;e=e61268be10" rel="noopener noreferrer" target="_blank">Over The Edge</a>&nbsp\;for Habitat OC provides the unique opportunity for individuals to raise $1\,000 or more in exchange to rappel from the top of the Irvine Marriott in the heart of OC! No climbing or experience necessary\, just enough courage to go over the edge.<br />\n<br />\nRegistration is officially open.&nbsp\;Sign up by August 16\, 2019 and receive $50 off your registration fee.&nbsp\;Use code: e5w7.&nbsp\;Don&rsquo\;t miss out on the opportunity to reserve your spot&nbsp\;as space is limited.<br />\n<br />\n17 Stories &ndash\; 203 Feet &ndash\; 1 Mission &ndash\; Help&nbsp\;build a world where everyone has a decent place to live.</p>\n
LOCATION:Irvine Marriott 18000 Von Karman Ave Irvine CA 92612
UID:e.887.23606
SEQUENCE:3
DTSTAMP:20260421T214207Z
URL:https://business.nocchamber.com/events/details/go-over-the-edge-for-habitat-oc-23606
END:VEVENT

END:VCALENDAR
