BEGIN:VCALENDAR
VERSION:2.0
PRODID:-//ChamberMaster//Event Calendar 2.0//EN
METHOD:PUBLISH
X-PUBLISHED-TTL:P3D
REFRESH-INTERVAL:P3D
CALSCALE:GREGORIAN
BEGIN:VEVENT
DTSTART;VALUE=DATE:20180330
DTEND;VALUE=DATE:20180331
TRANSP:TRANSPARENT
X-MICROSOFT-CDO-ALLDAYEVENT:TRUE
SUMMARY:Global Access Program (GAP) - ''Doing Business in Sub-Saharan Africa''
DESCRIPTION:Free Customized Market Research: Sub - Saharan Africa through the Global Access Program (GAP)\n\n\n\nSBA Orange County/Inland Empire District Office in collaboration with California State University San Bernardino\, and the Inland Empire Center for International Trade Development is looking for five more local companies to conduct free customized market research. To ensure adequate time is given for the projects\, we are asking interested companies to complete the application by March 30\, 2018.  \n\n\n\nApplication link http://bit.ly/CSUSBGAP.\n\n Application must be completed by March 30\, 2018.\n\n\n\nThe Global Access Program will be held on June 6th @ CSUSB\, for more information and online agenda
X-ALT-DESC;FMTTYPE=text/html:Free Customized Market Research:&nbsp\;Sub&nbsp\;- Saharan Africa&nbsp\;through the&nbsp\;Global Access Program (GAP)<br font-size:="" ms="" sans="" />\n<br font-size:="" ms="" sans="" />\nSBA Orange County/Inland Empire District Office in collaboration with California State University San Bernardino\, and the Inland Empire Center for International Trade Development&nbsp\;is looking for five more local companies to conduct free customized market research. To ensure adequate time is given for the projects\, we are asking interested companies to complete the application by March 30\, 2018. &nbsp\;<br font-size:="" ms="" sans="" />\n<br font-size:="" ms="" sans="" />\nApplication link&nbsp\;<a font-size:="" href="https://na01.safelinks.protection.outlook.com/?url=http%3A%2F%2Fbit.ly%2FCSUSBGAP&amp\;data=02%7C01%7Cpaul.smith%40sba.gov%7Cfab2269d5ced4f75823708d590d80e47%7C3c89fd8a7f684667aa1541ebf2208961%7C1%7C1%7C636574184879036876&amp\;sdata=FgOGNgiU7BM11VyjCsIn%2BZPBXI5PtJAupEi1ZCf6Cbc%3D&amp\;reserved=0" ms="" sans="">http://bit.ly/CSUSBGAP</a>.<br />\n&#8203\;Application must be completed by March 30\, 2018.<br />\n<br font-size:="" ms="" sans="" />\nThe Global Access Program will be held on June 6th&nbsp\;@ CSUSB\, for more information and online agenda&nbsp\;
LOCATION:California State University\, San Bernardino 5500 University Pkwy Jack Brown Building room 287 San Bernardino\, CA 92407 View Map
UID:e.887.21262
SEQUENCE:3
DTSTAMP:20260421T233159Z
URL:https://business.nocchamber.com/events/details/global-access-program-gap-doing-business-in-sub-saharan-africa-21262
END:VEVENT

END:VCALENDAR
