BEGIN:VCALENDAR
VERSION:2.0
PRODID:-//ChamberMaster//Event Calendar 2.0//EN
METHOD:PUBLISH
X-PUBLISHED-TTL:P3D
REFRESH-INTERVAL:P3D
CALSCALE:GREGORIAN
BEGIN:VEVENT
DTSTART:20180923T000000Z
DTEND:20180923T030000Z
X-MICROSOFT-CDO-ALLDAYEVENT:FALSE
SUMMARY:Giving Children Hope's 25th Anniversary Gala
DESCRIPTION:The Giving Children Hope organization will be holding their 25th Annviersary Gala event on Sunday\, September 22\, 2018 at 5:00 p.m. at Disney's Grand Californian Hotel 1600 Disneyland Dr.\, Anaheim\, CA 92802. \n\n\n\nThe evening event will be featuring live entertainment\, live auction\, silent auction\, and fine dining to celebrate Giving Children Hope's 25 years of serving vulnerable children and families across the street and around the world. \n\n\n\n*RSVP by Friday\, August 10\, 2018\n\n \n\nSponsorship Opportunities\n\nFor sponsorship opportunities\, fill out the Sponsorship Packet or email Dave at dstuart@gchope.org.\n\nSilent and live auction donations\n\nFor donations towards tjhe silent and/or live auctions\, e-mail Jessica at jhaut@gchope.org.\n\nAdditional information\n\nFor additional sponsorship and/or event detail or email subscription\, contact Dave at dstuart@gchope.org.
X-ALT-DESC;FMTTYPE=text/html:The Giving Children Hope organization will be holding their <strong>25th Annviersary Gala</strong> event on Sunday\, September 22\, 2018 at 5:00 p.m. at Disney&#39\;s Grand Californian Hotel 1600 Disneyland Dr.\, Anaheim\, CA 92802.&nbsp\;<br />\n<br />\nThe evening event will be featuring live entertainment\, live auction\, silent auction\, and fine dining to celebrate Giving Children Hope&#39\;s 25 years of serving vulnerable children and families across the street and around the world.&nbsp\;<br />\n<br />\n*RSVP by Friday\, August 10\, 2018<br />\n&nbsp\;\n<hr />\n<p><em>Sponsorship Opportunities</em><br />\nFor sponsorship opportunities\, fill out the&nbsp\;<a href="http://www.givingchildrenhope.org/wp-content/uploads/2018/04/Sponsorship-Packet-2018.pdf">Sponsorship Packet</a>&nbsp\;or email Dave at&nbsp\;<a href="mailto:dstuart@gchope.org">dstuart@gchope.org</a>.</p>\n\n<p><em>Silent and live auction donations</em><br />\nFor donations towards tjhe&nbsp\;silent and/or live auctions\, e-mail Jessica at&nbsp\;<a href="mailto:jhaut@gchope.org">jhaut@gchope.org</a>.</p>\n\n<p><em>Additional information</em><br />\nFor additional sponsorship and/or event detail or email subscription\, contact Dave at&nbsp\;<a href="mailto:dstuart@gchope.org">dstuart@gchope.org</a>.</p>\n
LOCATION:Disney's Grand Californian Hotel 1600 Disneyland Dr. Anaheim\, CA 92802
UID:e.887.22554
SEQUENCE:3
DTSTAMP:20260422T142847Z
URL:https://business.nocchamber.com/events/details/giving-children-hope-s-25th-anniversary-gala-22554
END:VEVENT

END:VCALENDAR
