BEGIN:VCALENDAR
VERSION:2.0
PRODID:-//ChamberMaster//Event Calendar 2.0//EN
METHOD:PUBLISH
X-PUBLISHED-TTL:P3D
REFRESH-INTERVAL:P3D
CALSCALE:GREGORIAN
BEGIN:VEVENT
DTSTART:20190606T020000Z
DTEND:20190606T040000Z
X-MICROSOFT-CDO-ALLDAYEVENT:FALSE
SUMMARY:Get Ready For the Sounds of Summer Concert Series
DESCRIPTION:The Summer Concert Series returns Wednesday\, June 5 at Boisseranc Park. Kicking off the free summer concert season is 80s tribute band Pop Gun Rerun and dressing up from the iconic decade is encouraged.\n\nThe 2019 concerts run from June 5 until August 21 and the musical lineup includes a variety of entertainment including music from Beatles and Bruno Mars tribute bands to a night dedicated to K-Pop music.\n\n\n\nYou can also enter opportunity drawings for prizes that take place during intermission.\n\n\n\nSeating is limited\, so remember to bring a beach chair and blankets! Food will be available for purchase at the snack booth and food trucks.\n\n\n\nCome on out for a night of music\, food\, and fun!\n\n\n7:00 p.m. Summer Concerts at Boisseranc Park - 7520 Dale Street\, Buena Park\, 90620 \n\n\n\nJune 5: Pop Gun Rerun - An awesome 80s tribute\n\n\n\nJune 12: Heart Love Alive - Tribute to Heart\n\n\n\nJune 19: Just Pretending - The ultimate The Pretenders tribute band\n\n\n\nJune 3: LA Sound Machine - Tribute to Gloria Estefan & Miami Sound Machine\n\n\n\nJuly 3: Biscuits and Gravy - James Brown\, Ohio Players & more funky favorites\n\n\n\nJuly 10: Uptown Funk - Bring your dancing shoes to this Bruno Mars Tribute\n\n\nNightly: Drum Circle 5-7 p.m. - Bring your drum and join the fun\n\n\n7:00 p.m. Summer Concerts at Buena Park Downtown - 8308 On The Mall\, Buena Park\, 90620\n\n\n\nJuly 17: K-Pop Music & Dance Fest - Get ready to dance the night away\n\n\n\nJuly 24: The Smith Country Band - A night of country rock and line dancing\n\n\n\nJuly 31: The 90s Rock Show -Your favorite 90s music\n\n\n\nAugust 7: Scot Bruce\, A Tribute to the King -  Celebrating the legacy of Elvis Presley\n\n\n\nAugust 14:  Lights - The premier tribute to Journey\n\n\n\nAugust 21: Grande Finale with Ticket to Ride -Tribute to the Beatles\n\n \n\n\n\nFor additional information\, please visit BuenaPark.com\, the Buena Park Community Center\, or call (714) 562 -3860.
X-ALT-DESC;FMTTYPE=text/html:The Summer Concert Series returns Wednesday\, June 5 at Boisseranc Park. Kicking off the free summer concert season is 80s tribute band Pop Gun Rerun and dressing up from the iconic decade is encouraged.\n<div>\n<p>The 2019&nbsp\;concerts run from June 5 until August 21 and the musical lineup includes a variety of entertainment including&nbsp\;music from Beatles and Bruno Mars tribute bands to a night dedicated to K-Pop music.</p>\n</div>\n\n<div>\n<p>You can also enter opportunity drawings for prizes that take place during intermission.</p>\n</div>\n\n<div>\n<p>Seating is limited\, so remember to bring a beach chair and blankets! Food will be available for purchase at the snack booth and food trucks.</p>\n</div>\n\n<div>\n<p>Come on out for a night of music\, food\, and fun!</p>\n\n<div>\n<p><strong>7:00 p.m. Summer Concerts at Boisseranc Park - 7520 Dale Street\, Buena Park\, 90620&nbsp\;</strong></p>\n</div>\n\n<div>\n<p>June 5:&nbsp\;Pop Gun Rerun&nbsp\;- An awesome 80s tribute</p>\n</div>\n\n<div>\n<p>June 12:&nbsp\;Heart Love Alive&nbsp\;- Tribute to Heart</p>\n</div>\n\n<div>\n<p>June 19:&nbsp\;Just Pretending&nbsp\;- The ultimate The Pretenders tribute band</p>\n</div>\n\n<div>\n<p>June 3:&nbsp\;LA Sound Machine&nbsp\;- Tribute to Gloria Estefan &amp\; Miami Sound Machine</p>\n</div>\n\n<div>\n<p>July 3:&nbsp\;Biscuits and Gravy&nbsp\;- James Brown\, Ohio Players &amp\; more funky favorites</p>\n</div>\n\n<div>\n<p>July 10:&nbsp\;Uptown Funk&nbsp\;- Bring your dancing shoes to this Bruno Mars Tribute</p>\n</div>\n\n<p>Nightly:&nbsp\;Drum Circle&nbsp\;5-7 p.m. - Bring your drum and join the fun</p>\n\n<div>\n<p><strong>7:00 p.m. Summer Concerts at Buena Park Downtown - 8308 On The Mall\, Buena Park\, 90620</strong></p>\n</div>\n\n<div>\n<p>July 17:&nbsp\;K-Pop Music &amp\; Dance Fest&nbsp\;- Get ready to dance the night away</p>\n</div>\n\n<div>\n<p>July 24:&nbsp\;The Smith Country Band&nbsp\;- A night of country rock and line dancing</p>\n</div>\n\n<div>\n<p>July 31:&nbsp\;The 90s Rock Show&nbsp\;-Your favorite 90s music</p>\n</div>\n\n<div>\n<p>August 7:&nbsp\;Scot Bruce\, A Tribute to the King&nbsp\;-&nbsp\; Celebrating the legacy of Elvis Presley</p>\n</div>\n\n<div>\n<p>August 14:&nbsp\;&nbsp\;Lights&nbsp\;-&nbsp\;The premier tribute to Journey</p>\n</div>\n\n<div>\n<p>August 21:&nbsp\;Grande Finale with Ticket to Ride&nbsp\;-Tribute to the Beatles<br />\n&nbsp\;</p>\n</div>\n\n<div>\n<p>For additional information\, please visit BuenaPark.com\, the Buena Park Community Center\, or call&nbsp\;(714) 562 -3860.</p>\n</div>\n</div>\n
LOCATION:Boisseranc Park 7520 Dale Street Buena Park\, CA 90620
UID:e.887.23325
SEQUENCE:3
DTSTAMP:20260422T041936Z
URL:https://business.nocchamber.com/events/details/get-ready-for-the-sounds-of-summer-concert-series-23325
END:VEVENT

END:VCALENDAR
