BEGIN:VCALENDAR
VERSION:2.0
PRODID:-//ChamberMaster//Event Calendar 2.0//EN
METHOD:PUBLISH
X-PUBLISHED-TTL:P3D
REFRESH-INTERVAL:P3D
CALSCALE:GREGORIAN
BEGIN:VEVENT
DTSTART:20180713T010000Z
DTEND:20180713T040000Z
X-MICROSOFT-CDO-ALLDAYEVENT:FALSE
SUMMARY:Get Five-Star Reviews on Google\, Yelp\, and Facebook
DESCRIPTION:Learn how to bolster business's online presence to attract new customers and generate new revenue. \n\n \n\nAttendees will learn how to use free tools to take control of and improve business's online pages\, and learn customer follow-up strategies that can be applied immediately.\n\n \n\nThis workshop is presented by Kim Olson. Kim has collaborated with local businesses for over 4 years in her career as an account executive and marketer. She is currently Account Executive at Broadly.com\, which helps local businesses improve their online presence and grow word-of-mouth. Olson earned a Bachelors from the Point Loma Nazarene University in San Diego with a degree in Communications.
X-ALT-DESC;FMTTYPE=text/html:Learn how to&nbsp\;bolster business&#39\;s online presence to attract new customers and generate new revenue.&nbsp\;<br />\n&nbsp\;<br />\nAttendees will learn how to use free tools to take control of and improve business&#39\;s online pages\, and learn customer follow-up strategies that can be applied immediately.<br />\n&nbsp\;<br />\nThis workshop is presented by&nbsp\;<strong>Kim Olson</strong>. Kim has collaborated with local businesses for over 4 years in her career as an account executive and marketer. She is currently Account Executive at Broadly.com\, which helps local businesses improve their online presence and grow word-of-mouth. Olson earned a Bachelors from the Point Loma Nazarene University in San Diego with a degree in Communications.
LOCATION:Laguna Woods City Hall (VM Readon) 24264 El Toro Road Laguna Woods\, CA 92637
UID:e.887.22520
SEQUENCE:3
DTSTAMP:20260422T085721Z
URL:https://business.nocchamber.com/events/details/get-five-star-reviews-on-google-yelp-and-facebook-22520
END:VEVENT

END:VCALENDAR
