BEGIN:VCALENDAR
VERSION:2.0
PRODID:-//ChamberMaster//Event Calendar 2.0//EN
METHOD:PUBLISH
X-PUBLISHED-TTL:P3D
REFRESH-INTERVAL:P3D
CALSCALE:GREGORIAN
BEGIN:VEVENT
DTSTART:20170623T010000Z
DTEND:20170623T040000Z
X-MICROSOFT-CDO-ALLDAYEVENT:FALSE
SUMMARY:Get a Handle on Your Business's Money: 10 Reasons You may Have Outgrown Your Accounting Software
DESCRIPTION:Join SCORE as they present Eddie Bader\, Eric Klauss\, Manish Bhardia and Bryan linuma as they look at common business challenges that small businesses face in managing their finances and how to know when they should be looking to upgrade.
X-ALT-DESC;FMTTYPE=text/html:Join SCORE as they present Eddie Bader\, Eric Klauss\, Manish Bhardia and Bryan linuma as they look at common business challenges that small businesses face in managing their finances and how to know when they should be looking to upgrade.
LOCATION:Fullerton Public Library Main Branch 353 W. Commonwealth Ave. Fullerton\, CA 92832
UID:e.887.16218
SEQUENCE:3
DTSTAMP:20260421T015322Z
URL:https://business.nocchamber.com/events/details/get-a-handle-on-your-business-s-money-10-reasons-you-may-have-outgrown-your-accounting-software-16218
END:VEVENT

END:VCALENDAR
