BEGIN:VCALENDAR
VERSION:2.0
PRODID:-//ChamberMaster//Event Calendar 2.0//EN
METHOD:PUBLISH
X-PUBLISHED-TTL:P3D
REFRESH-INTERVAL:P3D
CALSCALE:GREGORIAN
BEGIN:VEVENT
DTSTART:20190913T013000Z
DTEND:20190913T033000Z
X-MICROSOFT-CDO-ALLDAYEVENT:FALSE
SUMMARY:Gallery Tour: Autumn Impressions at the Muck
DESCRIPTION:The California Art Club continues over a century of tradition presenting America's stunning and varied landscapes in masterfully crafted paintings in this special group exhibition dedicated to the Fall Season.\n\nAutumn Impressions: Painting the American Landscape\n\nA California Art Club Exhibition\n\nAugust 18 - October 13\, 2019
X-ALT-DESC;FMTTYPE=text/html:<p>The California Art Club continues over a century of tradition&nbsp\;presenting America&rsquo\;s stunning and varied landscapes in masterfully crafted paintings in this special group exhibition dedicated to the Fall Season.</p>\n\n<p>Autumn Impressions: Painting the American Landscape<br />\nA California Art Club Exhibition<br />\nAugust 18 - October 13\, 2019</p>\n
LOCATION:The Muckenthaler Cultural Center 1201 W Malvern Ave Fullerton\, CA 92833
UID:e.887.23639
SEQUENCE:3
DTSTAMP:20260422T002133Z
URL:https://business.nocchamber.com/events/details/gallery-tour-autumn-impressions-at-the-muck-23639
END:VEVENT

END:VCALENDAR
