BEGIN:VCALENDAR
VERSION:2.0
PRODID:-//ChamberMaster//Event Calendar 2.0//EN
METHOD:PUBLISH
X-PUBLISHED-TTL:P3D
REFRESH-INTERVAL:P3D
CALSCALE:GREGORIAN
BEGIN:VEVENT
DTSTART:20191027T190000Z
DTEND:20191027T210000Z
X-MICROSOFT-CDO-ALLDAYEVENT:FALSE
SUMMARY:Gallery Opening Reception: Heriberto Luna at the Muckenthaler Cultural Center
DESCRIPTION:The grandchild of one of Zapata's revolutionary soldiers and a traditional Mayan shaman\, Heriberto Luna embraces his colorful Mexican ancestry in dazzling paintings that draw inspiration from pre-Columbian art and culture. Patterns with roots in ancient temple hieroglyphics assemble to form hummingbirds\, jaguars\, and the mythical beings who mediate between humans and the powerful forces of the natural world.
X-ALT-DESC;FMTTYPE=text/html:The grandchild of one of Zapata&rsquo\;s revolutionary soldiers and a traditional Mayan shaman\, Heriberto Luna embraces his colorful Mexican ancestry in dazzling paintings that draw inspiration from pre-Columbian art and culture. Patterns with roots in ancient temple hieroglyphics assemble to form hummingbirds\, jaguars\, and the mythical beings who mediate between humans and the powerful forces of the natural world.
LOCATION:The Muckenthaler Cultural Center 1201 W Malvern Ave Fullerton\, CA 92833
UID:e.887.23648
SEQUENCE:3
DTSTAMP:20260422T003159Z
URL:https://business.nocchamber.com/events/details/gallery-opening-reception-heriberto-luna-at-the-muckenthaler-cultural-center-23648
END:VEVENT

END:VCALENDAR
