BEGIN:VCALENDAR
VERSION:2.0
PRODID:-//ChamberMaster//Event Calendar 2.0//EN
METHOD:PUBLISH
X-PUBLISHED-TTL:P3D
REFRESH-INTERVAL:P3D
CALSCALE:GREGORIAN
BEGIN:VEVENT
DTSTART:20190510T013000Z
DTEND:20190510T033000Z
X-MICROSOFT-CDO-ALLDAYEVENT:FALSE
SUMMARY:Gallery Opening: 25 yrs of Muck Motoring
DESCRIPTION:Gallery Opening Reception\, Thursday\, May 9\, 6:30 p.m.\n\n$10 non-members. Free for Members\n\nTo celebrate the silver anniversary of our Annual Motor Car Festival\, the galleries will host a special limited engagement exhibition of paintings and other works by Frank Romero\, Nicola Wood\, Steve Metzger and others.\n\n25 Years of Muck Motoring - Limited Engagement\n\nMay 9 - May 26\, 2019
X-ALT-DESC;FMTTYPE=text/html:<p>Gallery Opening Reception\, Thursday\, May 9\, 6:30 p.m.<br />\n<a href="https://themuck.org/programing/2019/5/9/gallery-opening-reception-25-years-of-muck-motoring">$10 non-members. Free for Members</a></p>\n\n<p>To celebrate the silver anniversary of our Annual Motor Car Festival\, the galleries will host a special limited engagement exhibition of paintings and other works by Frank Romero\, Nicola Wood\, Steve Metzger and others.</p>\n\n<p>25 Years of Muck Motoring - Limited Engagement<br />\nMay 9 - May 26\, 2019</p>\n
LOCATION:The Muckenthaler Cultural Center 1201 W. Malvern Ave\, Fullerton\, CA 92833
UID:e.887.23285
SEQUENCE:3
DTSTAMP:20260422T065651Z
URL:https://business.nocchamber.com/events/details/gallery-opening-25-yrs-of-muck-motoring-23285
END:VEVENT

END:VCALENDAR
