BEGIN:VCALENDAR
VERSION:2.0
PRODID:-//ChamberMaster//Event Calendar 2.0//EN
METHOD:PUBLISH
X-PUBLISHED-TTL:P3D
REFRESH-INTERVAL:P3D
CALSCALE:GREGORIAN
BEGIN:VEVENT
DTSTART:20200512T170000Z
DTEND:20200512T183000Z
X-MICROSOFT-CDO-ALLDAYEVENT:FALSE
SUMMARY:G3X- OC COVID Funding Update for Organizations
DESCRIPTION:The Gianneschi Center in partnership with Executive Coaches of Orange County\, the Small Business Development Center\, OC Grantmakers\, and Farmers & Merchants Bank will present an update on CoVID funding's next phase with:\n\n\n\n	Mike Daniel\, Director of the Small Business Development Center of the SBA at CSUF Mihaylo College of Business & Economics with information uopdates on EIDL and PPP from the SBA\n	Scott Dowds\, Farmers & Merchants Banker currently working on PPP Applications\n	Taryn Palumbo\, Executive Director of OC Grantmakers currently working on the OC Resiliency Fund with Funders\n	Steve Smith\, Executive Coach at Executive Coaches of Orange County and the President & Founder of GrowthSource Coaching\, an expert on driving growth and sustainability. Steve will discuss some tips for organizations in the crisis\n	Zoot Velasco\, Director of the Gianneschi Center\, provides insights into hidden opportunities CoVID may provide organizations\n\nIf you missed the first G3X CoVID Survival Kit for Organizations\, you can access it as a Podcast here or as a YouTube Video here.\n\n\n\nClick here to register.
X-ALT-DESC;FMTTYPE=text/html:<div>\n<p>The Gianneschi Center in partnership with Executive Coaches of Orange County\, the Small Business Development Center\, OC Grantmakers\, and Farmers &amp\; Merchants Bank will present an update on CoVID funding&rsquo\;s next phase with:</p>\n</div>\n\n<ul>\n	<li>Mike Daniel\, Director of the Small Business Development Center of the SBA at CSUF Mihaylo College of Business &amp\; Economics with information uopdates on EIDL and PPP from the SBA</li>\n	<li>Scott Dowds\, Farmers &amp\; Merchants Banker currently working on PPP Applications</li>\n	<li>Taryn Palumbo\, Executive Director of OC Grantmakers currently working on the OC Resiliency Fund with Funders</li>\n	<li>Steve Smith\, Executive Coach at Executive Coaches of Orange County and the President &amp\; Founder of GrowthSource Coaching\, an expert on driving growth and sustainability. Steve will discuss some tips for organizations in the crisis</li>\n	<li>Zoot Velasco\, Director of the Gianneschi Center\, provides insights into hidden opportunities CoVID may provide organizations</li>\n</ul>\nIf you missed the&nbsp\;first G3X CoVID Survival Kit for Organizations\,&nbsp\;you can access it as a Podcast&nbsp\;<a data-auth="NotApplicable" href="http://r20.rs6.net/tn.jsp?f=001eZuSPYBSGwnes1nXL_LH5DYNuKAfDrg9Ztaz4T0Ys4GuBo9JCWJvLNZw42tY8w0c4wOQ07iHXMz9KBD_X-G0mFIY325PbHIvee0efCR-1bC9JQMN8F0w7BG0a4JGfEu8HiDU5Ho5dj_6wEiBdnF1-A==&amp\;c=QxCcYgEvAmcohb-f0q5J0WJjMC_LY4dWqE7ZV1Rdq-wXOhcdr78Wjg==&amp\;ch=cBeDdi0MGLBbRyxET-nHDNQMGPg0joU7fMWfS85-6qVtmWkBD_f61w==" rel="noopener noreferrer" target="_blank">here</a>&nbsp\;or as a YouTube Video&nbsp\;<a data-auth="NotApplicable" href="http://r20.rs6.net/tn.jsp?f=001eZuSPYBSGwnes1nXL_LH5DYNuKAfDrg9Ztaz4T0Ys4GuBo9JCWJvLLhUaUx99Hp6s83AfBbgYspIjgv4CmqA2t96uzPdDtDuhoA4aFkrDA4cG6a4Fa_kbFrYUMMQicCsDrTHClW1OVDuGt7jnLy57zExFCHVMzJAF2gO8UeoM-xiKE5Q_FlQPod3pjFfmS2u&amp\;c=QxCcYgEvAmcohb-f0q5J0WJjMC_LY4dWqE7ZV1Rdq-wXOhcdr78Wjg==&amp\;ch=cBeDdi0MGLBbRyxET-nHDNQMGPg0joU7fMWfS85-6qVtmWkBD_f61w==" rel="noopener noreferrer" target="_blank">here</a>.<br />\n<br />\n<a href="https://www.eventbrite.com/e/g3x-covid19-update-for-organizations-tickets-103379607188" target="_blank">Click here to register.</a>
LOCATION:Online Click here to register.
UID:e.887.24327
SEQUENCE:3
DTSTAMP:20260421T153523Z
URL:https://business.nocchamber.com/events/details/g3x-oc-covid-funding-update-for-organizations-24327
END:VEVENT

END:VCALENDAR
