BEGIN:VCALENDAR
VERSION:2.0
PRODID:-//ChamberMaster//Event Calendar 2.0//EN
METHOD:PUBLISH
X-PUBLISHED-TTL:P3D
REFRESH-INTERVAL:P3D
CALSCALE:GREGORIAN
BEGIN:VEVENT
DTSTART:20191114T010000Z
DTEND:20191114T030000Z
X-MICROSOFT-CDO-ALLDAYEVENT:FALSE
SUMMARY:Fullerton Women's Leadership Forum
DESCRIPTION:The Fullerton Women's Leadership Forum will hold its 15th Anniversary event honoring local community leaders.  The event is hosted by Fullerton  Hosted by Fullerton Mayor Pro-tem Jennifer Fitzgerald\, and Councilwoman Jan Flory\, former Councilwoman Pam Keller and The Woman's Club of Fullerton.  Attendees will enjoy "The Marketplace" with items from local women-owned/operated businesses and be able to donate to non-profit charity organizations.  \n\n \nHonorees:\n\n\n	\n	Susan Tang Ouweleen\, 2019 Warrior Award\n	\n	\n	Shirley Owens McClanahan\, 2019 Philanthropic Leadership Award\n	\n	\n	Cristal Drake\, 2019 Business & Wellness Leadership Award\n	\n	\n	Debbie Adams\, 2019 Woman's Club of Fullerton Award\n	\n	\n	Nancy Torres\, Rising Star Award
X-ALT-DESC;FMTTYPE=text/html:The Fullerton Women&#39\;s Leadership Forum will hold its 15th Anniversary event honoring local community leaders.&nbsp\; The event is hosted by Fullerton&nbsp\;&nbsp\;Hosted by Fullerton Mayor Pro-tem Jennifer Fitzgerald\, and Councilwoman Jan Flory\, former Councilwoman Pam Keller and The Woman&#39\;s Club of Fullerton.&nbsp\; Attendees will enjoy &quot\;The Marketplace&quot\; with items from local women-owned/operated businesses and be able to donate to non-profit charity organizations.&nbsp\;&nbsp\;<br />\n&nbsp\;\n<div><u><strong>Honorees:</strong></u></div>\n\n<ul>\n	<li>\n	<div>Susan Tang Ouweleen\, 2019 Warrior Award</div>\n	</li>\n	<li>\n	<div>Shirley Owens McClanahan\, 2019 Philanthropic Leadership Award</div>\n	</li>\n	<li>\n	<div>Cristal Drake\, 2019 Business &amp\; Wellness Leadership Award</div>\n	</li>\n	<li>\n	<div>Debbie Adams\, 2019 Woman&#39\;s Club of Fullerton Award</div>\n	</li>\n	<li>\n	<div>Nancy Torres\, Rising Star Award</div>\n	</li>\n</ul>\n
LOCATION:Grand Hall Fullerton Community Center 340 W. Commonwealth Avenue Fullerton\, CA 92832
UID:e.887.23812
SEQUENCE:3
DTSTAMP:20260421T214247Z
URL:https://business.nocchamber.com/events/details/fullerton-women-s-leadership-forum-23812
END:VEVENT

END:VCALENDAR
