BEGIN:VCALENDAR
VERSION:2.0
PRODID:-//ChamberMaster//Event Calendar 2.0//EN
METHOD:PUBLISH
X-PUBLISHED-TTL:P3D
REFRESH-INTERVAL:P3D
CALSCALE:GREGORIAN
BEGIN:VEVENT
DTSTART:20191207T200000Z
DTEND:20191208T010000Z
X-MICROSOFT-CDO-ALLDAYEVENT:FALSE
SUMMARY:Fullerton Winter Market & Tree Lighting
DESCRIPTION:The Market Will Feature\n\n	Holiday Entertainment\n	Free pictures with Santa from 12:00 p.m. to 4:00 p.m.\n	Food booths\n	Holiday shopping\n	Face painting\n	Bounce house\n	Fullerton Museum's Beer and Wine Garden\n	"Spark of Love" toy drive with Fullerton Firefighters\n	\n		Bring a toy to donate at the toy drive\n	\n	\n\nParking may be found in any of the free downtown lots or in the parking structures at Wilshire (enter from Harbor)\; Lemon Street and Chapman Avenue\;and in the Transportation Center on Pomona and Santa Fe Avenue.\n\n\n\nVendor applications are available at the Fullerton Museum Center\, Community Center and may be downloaded below.\n\n	Vendor Application\n	Vendor Application Guide
X-ALT-DESC;FMTTYPE=text/html:The Market Will Feature\n<ul>\n	<li>Holiday Entertainment</li>\n	<li>Free pictures with Santa from 12:00 p.m. to 4:00 p.m.</li>\n	<li>Food booths</li>\n	<li>Holiday shopping</li>\n	<li>Face painting</li>\n	<li>Bounce house</li>\n	<li>Fullerton Museum&#39\;s Beer and Wine Garden</li>\n	<li>&quot\;Spark of Love&quot\; toy drive with Fullerton Firefighters\n	<ul>\n		<li>Bring a toy to donate at the toy drive</li>\n	</ul>\n	</li>\n</ul>\nParking may be found in any of the free downtown lots or in the parking structures at Wilshire (enter from Harbor)\; Lemon Street and Chapman Avenue\;and in the Transportation Center on Pomona and Santa Fe Avenue.<br />\n<br />\nVendor applications&nbsp\;are available&nbsp\;at the&nbsp\;Fullerton Museum Center\, Community Center and may be downloaded below.\n<ul>\n	<li><a href="https://www1.cityoffullerton.com/civicax/filebank/blobdload.aspx?BlobID=25932">Vendor Application</a></li>\n	<li><a href="https://www1.cityoffullerton.com/civicax/filebank/blobdload.aspx?BlobID=26913">Vendor Application Guide</a></li>\n</ul>\n
LOCATION:Fullerton Downtown Plaza (between Harbor Blvd. & Pomona Ave.) 125 East Wilshire Avenue Fullerton\, CA 92832
UID:e.887.23782
SEQUENCE:3
DTSTAMP:20260421T202556Z
URL:https://business.nocchamber.com/events/details/fullerton-winter-market-tree-lighting-23782
END:VEVENT

END:VCALENDAR
