BEGIN:VCALENDAR
VERSION:2.0
PRODID:-//ChamberMaster//Event Calendar 2.0//EN
METHOD:PUBLISH
X-PUBLISHED-TTL:P3D
REFRESH-INTERVAL:P3D
CALSCALE:GREGORIAN
BEGIN:VEVENT
DTSTART:20200225T210000Z
DTEND:20200225T230000Z
X-MICROSOFT-CDO-ALLDAYEVENT:FALSE
SUMMARY:Fullerton: Voter Education Event
DESCRIPTION:The League of Women Voters will be presenting information at the Fullerton Community Center about the new vote center concept that will be implemented by the Orange County Registrar of Voters. \n\n\n\nThe presentation will be covering the following topics:\n\n1. Vote Centers\n\n2. Drop off locations for Ballots\n\n3. Vote by mail
X-ALT-DESC;FMTTYPE=text/html:The League of Women Voters will be presenting information at the Fullerton Community Center about the new vote center concept that will be implemented by the Orange County Registrar of Voters.&nbsp\;<br />\n<br />\nThe presentation will be covering the following topics:<br />\n1. Vote Centers<br />\n2. Drop off locations for Ballots<br />\n3. Vote by mail
LOCATION:Fullerton Community Center 340 W Commonwealth Ave. Fullerton\, CA 92832
UID:e.887.24208
SEQUENCE:3
DTSTAMP:20260421T180054Z
URL:https://business.nocchamber.com/events/details/fullerton-voter-education-event-24208
END:VEVENT

END:VCALENDAR
