BEGIN:VCALENDAR
VERSION:2.0
PRODID:-//ChamberMaster//Event Calendar 2.0//EN
METHOD:PUBLISH
X-PUBLISHED-TTL:P3D
REFRESH-INTERVAL:P3D
CALSCALE:GREGORIAN
BEGIN:VEVENT
DTSTART:20190208T023000Z
DTEND:20190208T043000Z
X-MICROSOFT-CDO-ALLDAYEVENT:FALSE
SUMMARY:Fullerton Union High School District Student Exhibition
DESCRIPTION:The Muckenthaler Cultural Center presents...\n\nFullerton Union High School District Student Exhibition - Limited Engagement\n\nFebruary 7 - February 24\, 2019\n\n\n\nGallery Opening Reception\, Thursday\, February 7\, 6:30 p.m. | $10 non-members\, Free for Members\n\nWe begin our year by hosting the finest student artworks from the seven schools of the Fullerton Union High School District\, including campuses in Buena Park and La Habra. Awards will be given for best drawings\, paintings\, sculpture\, digital art\, and more.
X-ALT-DESC;FMTTYPE=text/html:The Muckenthaler Cultural Center presents...<br />\nFullerton Union High School District Student Exhibition - Limited Engagement<br />\nFebruary 7 - February 24\, 2019<br />\n<br />\nGallery Opening Reception\, Thursday\, February 7\, 6:30 p.m. | <a href="https://themuck.showare.com/eventperformances.asp?evt=206">$10 non-members\, Free for Members</a><br />\nWe begin our year by hosting the finest student artworks from the seven schools of the Fullerton Union High School District\, including campuses in Buena Park and La Habra. Awards will be given for best drawings\, paintings\, sculpture\, digital art\, and more.<br />\n&nbsp\;
LOCATION:The Muckenthaler Cultural Center 1201 West Malvern Ave. Fullerton CA 92833
UID:e.887.22912
SEQUENCE:3
DTSTAMP:20260422T093245Z
URL:https://business.nocchamber.com/events/details/fullerton-union-high-school-district-student-exhibition-22912
END:VEVENT

END:VCALENDAR
