BEGIN:VCALENDAR
VERSION:2.0
PRODID:-//ChamberMaster//Event Calendar 2.0//EN
METHOD:PUBLISH
X-PUBLISHED-TTL:P3D
REFRESH-INTERVAL:P3D
CALSCALE:GREGORIAN
BEGIN:VEVENT
DTSTART:20200203T220000Z
DTEND:20200203T233000Z
X-MICROSOFT-CDO-ALLDAYEVENT:FALSE
SUMMARY:Fullerton - Senior Town Hall with Congressman Gil Cisneros
DESCRIPTION:Sunrise of Fullerton is hosting a Senior Town Hall with Congressman Gil Cisneros. He will be speaking about issues important to seniors and taking questions from the audience. Federal agencies will also be on hand to answer questions.\n\n\n\nRefreshments will be served.
X-ALT-DESC;FMTTYPE=text/html:Sunrise of Fullerton is hosting a Senior Town Hall with Congressman Gil Cisneros. He will be speaking about issues important to seniors and taking questions from the audience. Federal agencies will also be on hand to answer questions.<br />\n<br />\nRefreshments will be served.&nbsp\;
LOCATION:Sunrise of Fullerton 2226 N. Euclid St. Fullerton\, CA 92835
UID:e.887.24093
SEQUENCE:3
DTSTAMP:20260421T180238Z
URL:https://business.nocchamber.com/events/details/fullerton-senior-town-hall-with-congressman-gil-cisneros-24093
END:VEVENT

END:VCALENDAR
