BEGIN:VCALENDAR
VERSION:2.0
PRODID:-//ChamberMaster//Event Calendar 2.0//EN
METHOD:PUBLISH
X-PUBLISHED-TTL:P3D
REFRESH-INTERVAL:P3D
CALSCALE:GREGORIAN
BEGIN:VEVENT
DTSTART:20191011T170000Z
DTEND:20191011T183000Z
X-MICROSOFT-CDO-ALLDAYEVENT:FALSE
SUMMARY:Fullerton Senior Scam Stopper
DESCRIPTION:Assemblywoman Sharon Quirk-Silva and a panel of experts will provide information to seniors how they can protect themselves from becoming victims of fraud. Attendees can get answers to their questions and obtain assistance if they have been scammed.
X-ALT-DESC;FMTTYPE=text/html:Assemblywoman Sharon Quirk-Silva and a panel of experts will provide information to seniors how they can protect themselves from becoming victims of fraud. Attendees can get answers to their questions and obtain assistance if they have been scammed.
LOCATION:Fullerton Community Center 340 W Commonwealth Ave. Fullerton\, 92832
UID:e.887.23733
SEQUENCE:3
DTSTAMP:20260421T225359Z
URL:https://business.nocchamber.com/events/details/fullerton-senior-scam-stopper-23733
END:VEVENT

END:VCALENDAR
