BEGIN:VCALENDAR
VERSION:2.0
PRODID:-//ChamberMaster//Event Calendar 2.0//EN
METHOD:PUBLISH
X-PUBLISHED-TTL:P3D
REFRESH-INTERVAL:P3D
CALSCALE:GREGORIAN
BEGIN:VEVENT
DTSTART:20190201T173000Z
DTEND:20190201T190000Z
X-MICROSOFT-CDO-ALLDAYEVENT:FALSE
SUMMARY:Fullerton School District - Parent Information Meeting at Beachwood School
DESCRIPTION:Schools have specialty areas and parents can learn more about our junior high schools and the local high schools. Parents can attend a Parent Information Meeting to learn more about schools and what they have to offer. With the exception of Nicolas Junior High School\, all sessions are offered in January and February. The list of session dates can be found on the FSD website.
X-ALT-DESC;FMTTYPE=text/html:Schools have specialty areas and parents can learn more about our junior high schools and the local high schools. Parents can attend a Parent Information Meeting to learn more about schools and what they have&nbsp\;to offer. With the exception of Nicolas Junior High School\, all sessions are offered in January and&nbsp\;February. The list of session dates can be found on the <a href="https://www.fullertonsd.org/apps/pages/index.jsp?uREC_ID=725975&amp\;type=d&amp\;pREC_ID=1147540">FSD website</a>.
LOCATION:Beachwood Elementary & Middle School 780 Beechwood Ave. Fullerton\, CA 92835
UID:e.887.22857
SEQUENCE:3
DTSTAMP:20260422T103508Z
URL:https://business.nocchamber.com/events/details/fullerton-school-district-parent-information-meeting-at-beachwood-school-22857
END:VEVENT

END:VCALENDAR
