BEGIN:VCALENDAR
VERSION:2.0
PRODID:-//ChamberMaster//Event Calendar 2.0//EN
METHOD:PUBLISH
X-PUBLISHED-TTL:P3D
REFRESH-INTERVAL:P3D
CALSCALE:GREGORIAN
BEGIN:VEVENT
DTSTART:20200221T161500Z
DTEND:20200221T210000Z
X-MICROSOFT-CDO-ALLDAYEVENT:FALSE
SUMMARY:Fullerton School District - Innovative and Exemplary Programs School Tours
DESCRIPTION:The tour of Fullerton school site programs begins and ends Maple Elementary School. Travel will be by coach.  Registration is required
X-ALT-DESC;FMTTYPE=text/html:The tour of&nbsp\;Fullerton school site programs begins and ends Maple&nbsp\;Elementary School. Travel will be by coach.&nbsp\; Registration is required
LOCATION:Maple Elementary School 244 E. Valencia Dr. Fullerton\, CA 92832
UID:e.887.24111
SEQUENCE:3
DTSTAMP:20260421T180110Z
URL:https://business.nocchamber.com/events/details/fullerton-school-district-innovative-and-exemplary-programs-school-tours-24111
END:VEVENT

END:VCALENDAR
