BEGIN:VCALENDAR
VERSION:2.0
PRODID:-//ChamberMaster//Event Calendar 2.0//EN
METHOD:PUBLISH
X-PUBLISHED-TTL:P3D
REFRESH-INTERVAL:P3D
CALSCALE:GREGORIAN
BEGIN:VEVENT
DTSTART:20200503T160000Z
DTEND:20200503T233000Z
X-MICROSOFT-CDO-ALLDAYEVENT:FALSE
SUMMARY:Fullerton: Railroad Days
DESCRIPTION:Railroad Days returns to Fullerton\, giving rail fans young and old the opportunity to explore full-size trains\, model trains\, activities and exhibits at the Fullerton Train Museum during the annual railroad days event.
X-ALT-DESC;FMTTYPE=text/html:Railroad Days returns to Fullerton\, giving rail fans young and old the opportunity to explore full-size trains\, model trains\, activities and exhibits at the Fullerton Train Museum during the annual railroad days event.<br />\n&nbsp\;
LOCATION:Fullerton Train Museum 200 E Santa Fe Ave. Fullerton\, CA 92832
UID:e.887.24168
SEQUENCE:3
DTSTAMP:20260421T153408Z
URL:https://business.nocchamber.com/events/details/fullerton-railroad-days-05-03-2020-24168
END:VEVENT

END:VCALENDAR
