BEGIN:VCALENDAR
VERSION:2.0
PRODID:-//ChamberMaster//Event Calendar 2.0//EN
METHOD:PUBLISH
X-PUBLISHED-TTL:P3D
REFRESH-INTERVAL:P3D
CALSCALE:GREGORIAN
BEGIN:VEVENT
DTSTART:20181128T003000Z
DTEND:20181128T020000Z
X-MICROSOFT-CDO-ALLDAYEVENT:FALSE
SUMMARY:Fullerton Public Library In-depth Interviewing
DESCRIPTION:The Fullerton Public Library's In-Depth Interviewing workshop will explore the art of interviewing.
X-ALT-DESC;FMTTYPE=text/html:The Fullerton Public Library&#39\;s In-Depth Interviewing workshop will explore the art of interviewing.
LOCATION:Fullerton Public Library - Conference Center 353 W Commonwealth Ave. Fullerton\, CA 92832
UID:e.887.22867
SEQUENCE:3
DTSTAMP:20260422T124910Z
URL:https://business.nocchamber.com/events/details/fullerton-public-library-in-depth-interviewing-22867
END:VEVENT

END:VCALENDAR
