BEGIN:VCALENDAR
VERSION:2.0
PRODID:-//ChamberMaster//Event Calendar 2.0//EN
METHOD:PUBLISH
X-PUBLISHED-TTL:P3D
REFRESH-INTERVAL:P3D
CALSCALE:GREGORIAN
BEGIN:VEVENT
DTSTART:20191019T170000Z
DTEND:20191019T210000Z
X-MICROSOFT-CDO-ALLDAYEVENT:FALSE
SUMMARY:Fullerton Police Department Open House
DESCRIPTION:The Fullerton Police Department Open House will include displays of the Police/SWAT specialty vehicles\, SWAT demonstrations\, Public Safety Information\, Police Memorabilia displays and tours of the police station. \n\n\n\nThe tours of the Police Department will include a visit to the shooting range where participants can try out the PRISM shooting simulator\, a visit to the live Dispatch Center\, and Jail Facility.
X-ALT-DESC;FMTTYPE=text/html:The Fullerton Police Department Open House will include displays of the Police/SWAT specialty vehicles\, SWAT demonstrations\, Public Safety Information\, Police Memorabilia displays and tours of the police station.&nbsp\;<br />\n<br />\nThe tours of the Police Department will include a visit to the shooting range where participants can try out the PRISM shooting simulator\, a visit to the live Dispatch Center\, and Jail Facility.&nbsp\;&nbsp\;
LOCATION:Fullerton Police Department 237 W. Commonwealth Avenue Fullerton\, CA 92832
UID:e.887.23751
SEQUENCE:3
DTSTAMP:20260421T231018Z
URL:https://business.nocchamber.com/events/details/fullerton-police-department-open-house-23751
END:VEVENT

END:VCALENDAR
