BEGIN:VCALENDAR
VERSION:2.0
PRODID:-//ChamberMaster//Event Calendar 2.0//EN
METHOD:PUBLISH
X-PUBLISHED-TTL:P3D
REFRESH-INTERVAL:P3D
CALSCALE:GREGORIAN
BEGIN:VEVENT
DTSTART:20200116T020000Z
DTEND:20200116T040000Z
X-MICROSOFT-CDO-ALLDAYEVENT:FALSE
SUMMARY:Fullerton - Nxt Gen Youth Empowerment Elite Learners Program
DESCRIPTION:Job exploration keynote speakers series with free classes to learn about careers in fields.  \n\n	Engineering\n	Healthcare\n	HR\n	Finance\n	Construction\n	Entrepreneurship\n	Manufacturing\n	Government\n	Retail\n	Hospitality/Customer Service\n\nFor those that complete series\, you will receive a $25 voucher given to open a bank account & VIP to Youth/Emerging adult job fair in Spring.
X-ALT-DESC;FMTTYPE=text/html:Job exploration keynote speakers series with free classes to learn about careers in fields.&nbsp\;&nbsp\;\n<ul>\n	<li>Engineering</li>\n	<li>Healthcare</li>\n	<li>HR</li>\n	<li>Finance</li>\n	<li>Construction</li>\n	<li>Entrepreneurship</li>\n	<li>Manufacturing</li>\n	<li>Government</li>\n	<li>Retail</li>\n	<li>Hospitality/Customer Service</li>\n</ul>\nFor those that complete series\, you will receive a $25 voucher given to open a bank account &amp\; VIP to Youth/Emerging adult job fair in Spring.&nbsp\;
LOCATION:Boys & Girls Club (Fullerton Community Center) 340 W. Commonwealth Ave. Fullerton\, CA 92832
UID:e.887.24051
SEQUENCE:3
DTSTAMP:20260421T192646Z
URL:https://business.nocchamber.com/events/details/fullerton-nxt-gen-youth-empowerment-elite-learners-program-24051
END:VEVENT

END:VCALENDAR
