BEGIN:VCALENDAR
VERSION:2.0
PRODID:-//ChamberMaster//Event Calendar 2.0//EN
METHOD:PUBLISH
X-PUBLISHED-TTL:P3D
REFRESH-INTERVAL:P3D
CALSCALE:GREGORIAN
BEGIN:VEVENT
DTSTART:20191030T010000Z
DTEND:20191030T031500Z
X-MICROSOFT-CDO-ALLDAYEVENT:FALSE
SUMMARY:Fullerton Museum Haunted Walking Tours
DESCRIPTION:Fullerton Museum will host Haunted Walking Tours in celebration of Halloween. The tour will include visiting a number of locations and learning multiple legends in the spirit of the holiday. The tour is both an educating and an exciting experience. Space is limited\, and prepaid reservations are required.
X-ALT-DESC;FMTTYPE=text/html:Fullerton Museum will host Haunted Walking Tours in celebration of Halloween. The tour will include visiting a number of locations and learning multiple legends in the spirit of the holiday. The tour is both an educating and an exciting experience. Space is limited\, and prepaid reservations are required.
LOCATION:Fullerton Museum 301 N. Pomona Ave. Fullerton\, CA\, 92832
UID:e.887.23794
SEQUENCE:3
DTSTAMP:20260422T000853Z
URL:https://business.nocchamber.com/events/details/fullerton-museum-haunted-walking-tours-23794
END:VEVENT

END:VCALENDAR
