BEGIN:VCALENDAR
VERSION:2.0
PRODID:-//ChamberMaster//Event Calendar 2.0//EN
METHOD:PUBLISH
X-PUBLISHED-TTL:P3D
REFRESH-INTERVAL:P3D
CALSCALE:GREGORIAN
BEGIN:VEVENT
DTSTART:20170205T220000Z
DTEND:20170206T000000Z
X-MICROSOFT-CDO-ALLDAYEVENT:FALSE
SUMMARY:Fullerton Museum Center Workshop - Art Noveau Valentines
DESCRIPTION:Enjoy this hands-on adult art class and make your own Art Nouveau Valentine's Day cards inspired by artist Alphonse Mucha.
X-ALT-DESC;FMTTYPE=text/html:<p>Enjoy this hands-on adult art class and make your own Art Nouveau Valentine&#39\;s Day cards inspired by artist Alphonse Mucha.</p>\n
LOCATION:Fullerton Museum Center 301 N. Pomona Ave. Fullerton\, CA 92832
UID:e.887.15654
SEQUENCE:3
DTSTAMP:20260421T212804Z
URL:https://business.nocchamber.com/events/details/fullerton-museum-center-workshop-art-noveau-valentines-15654
END:VEVENT

END:VCALENDAR
