BEGIN:VCALENDAR
VERSION:2.0
PRODID:-//ChamberMaster//Event Calendar 2.0//EN
METHOD:PUBLISH
X-PUBLISHED-TTL:P3D
REFRESH-INTERVAL:P3D
CALSCALE:GREGORIAN
BEGIN:VEVENT
DTSTART:20181208T020000Z
DTEND:20181208T060000Z
X-MICROSOFT-CDO-ALLDAYEVENT:FALSE
SUMMARY:Fullerton Museum Center - Shopping Soiree
DESCRIPTION:Get ready to shop the night away at FMC's Annual Shopping Soiree! All items in the gift shop will be 20% off. Museum members will receive 30% off. Free gift wrapping\, appetizers\, and drinks!
X-ALT-DESC;FMTTYPE=text/html:<p style="margin-bottom:11.25pt"><span style="font-size:14px\;"><span style="font-family:arial\;"><span style="color: rgb(100\, 96\, 81)\;">Get ready to shop the night away at FMC&#39\;s Annual Shopping Soiree! All items in the gift shop will be 20% off. Museum members will receive 30% off. Free gift wrapping\, appetizers\, and drinks!</span></span></span><span style="font-size:10.5pt\;font-family:\n&quot\;Helvetica Neue&quot\;\;color:#646051"><o:p></o:p></span></p>\n
LOCATION:Fullerton Museum Center 301 N. Pomona\, Fullerton
UID:e.887.22871
SEQUENCE:3
DTSTAMP:20260422T115115Z
URL:https://business.nocchamber.com/events/details/fullerton-museum-center-shopping-soiree-12-07-2018-22871
END:VEVENT

END:VCALENDAR
