BEGIN:VCALENDAR
VERSION:2.0
PRODID:-//ChamberMaster//Event Calendar 2.0//EN
METHOD:PUBLISH
X-PUBLISHED-TTL:P3D
REFRESH-INTERVAL:P3D
CALSCALE:GREGORIAN
BEGIN:VEVENT
DTSTART:20200307T030000Z
DTEND:20200307T060000Z
X-MICROSOFT-CDO-ALLDAYEVENT:FALSE
SUMMARY:Fullerton: Museum Center Open Mic Night
DESCRIPTION:The Fullerton Museum Center is hosting their Fullerton Art Walk Open Mic Nights\, which are held the first Friday of every month and bring together music\, art and poetry. This week's event features Shanara Sanders and Chicanas\, Cholas\, Y Chisme.
X-ALT-DESC;FMTTYPE=text/html:The Fullerton Museum Center is hosting their Fullerton Art Walk Open Mic Nights\, which are held the first Friday of every month and bring together music\, art and poetry. This week&#39\;s event features Shanara Sanders and Chicanas\, Cholas\, Y Chisme.&nbsp\;
LOCATION:Fullerton Museum Center 301 N. Pomona Ave. Fullerton\, CA 92832
UID:e.887.24246
SEQUENCE:3
DTSTAMP:20260421T165007Z
URL:https://business.nocchamber.com/events/details/fullerton-museum-center-open-mic-night-03-06-2020-24246
END:VEVENT

END:VCALENDAR
