BEGIN:VCALENDAR
VERSION:2.0
PRODID:-//ChamberMaster//Event Calendar 2.0//EN
METHOD:PUBLISH
X-PUBLISHED-TTL:P3D
REFRESH-INTERVAL:P3D
CALSCALE:GREGORIAN
BEGIN:VEVENT
DTSTART:20190106T220000Z
DTEND:20190107T000000Z
X-MICROSOFT-CDO-ALLDAYEVENT:FALSE
SUMMARY:Fullerton Museum Center - Meet & Greet Book Signing with Charles Phoenix
DESCRIPTION:Join Addicted to Americana author Charles Phoenix\, signing copies of his latest book celebrating classic and kitschy Americana life and style.
X-ALT-DESC;FMTTYPE=text/html:Join <em>Addicted to Americana</em> author Charles Phoenix\, signing copies of his latest book celebrating classic and kitschy Americana life and style.
LOCATION:Fullerton Museum Center 301 N. Pomona Ave. Fullerton\, CA 92832
UID:e.887.22936
SEQUENCE:3
DTSTAMP:20260422T103422Z
URL:https://business.nocchamber.com/events/details/fullerton-museum-center-meet-greet-book-signing-with-charles-phoenix-22936
END:VEVENT

END:VCALENDAR
