BEGIN:VCALENDAR
VERSION:2.0
PRODID:-//ChamberMaster//Event Calendar 2.0//EN
METHOD:PUBLISH
X-PUBLISHED-TTL:P3D
REFRESH-INTERVAL:P3D
CALSCALE:GREGORIAN
BEGIN:VEVENT
DTSTART:20200315T020000Z
DTEND:20200315T043000Z
X-MICROSOFT-CDO-ALLDAYEVENT:FALSE
SUMMARY:Fullerton Museum Center: Golden Legacy
DESCRIPTION:Curated by Leonard Marcus\, Golden Legacy: 75 Years of Golden Books is the most extensive public showing of original illustration art from American publishing?s most loved and consequential picture-book series\, Little Golden Books. Celebrating its sixty-fifth anniversary in 2007\, this exhibition continues to enthrall audiences during its travels. To celebrate its seventy-five years\, this exhibition has been updated with the addition of artwork from contemporary Little Golden book artists.\n\n\n\nThe opening reception takes place March 14\, 2020 from 7:00 p.m. to 9:30 p.m. at the Fullerton Museum Center. Golden Legacy: 75 Years of Golden Books artwork will be on display from March 14 until May 3\, 2020.
X-ALT-DESC;FMTTYPE=text/html:Curated by Leonard Marcus\, Golden Legacy: 75 Years of Golden Books is&nbsp\;the most extensive public showing of original illustration art from American publishing?s most loved and consequential picture-book series\, Little Golden Books. Celebrating&nbsp\;its sixty-fifth anniversary in 2007\, this exhibition continues to enthrall audiences during its travels. To celebrate its seventy-five years\, this exhibition has been updated with the addition of artwork from contemporary Little Golden book artists.<br />\n<br />\nThe opening reception takes place March 14\, 2020 from 7:00 p.m. to 9:30 p.m. at the Fullerton Museum Center. Golden Legacy: 75 Years of Golden Books artwork will be on display from March 14 until May 3\, 2020.
LOCATION:Fullerton Museum Center 301 N Pomona Ave. Fullerton\, CA 92832
UID:e.887.24195
SEQUENCE:3
DTSTAMP:20260421T180310Z
URL:https://business.nocchamber.com/events/details/fullerton-museum-center-golden-legacy-24195
END:VEVENT

END:VCALENDAR
