BEGIN:VCALENDAR
VERSION:2.0
PRODID:-//ChamberMaster//Event Calendar 2.0//EN
METHOD:PUBLISH
X-PUBLISHED-TTL:P3D
REFRESH-INTERVAL:P3D
CALSCALE:GREGORIAN
BEGIN:VEVENT
DTSTART:20200314T020000Z
DTEND:20200314T040000Z
X-MICROSOFT-CDO-ALLDAYEVENT:FALSE
SUMMARY:Fullerton Museum Center: Creative Co-Op - Springtime Door Wreath
DESCRIPTION:Fullerton Museum Center is hosting their Creative Co-Op night\, teaching guests how to create a springtime rustic door wreath with step-by-step instructions. No experience is necessary.
X-ALT-DESC;FMTTYPE=text/html:Fullerton Museum Center is hosting their Creative Co-Op night\, teaching guests how to create a springtime rustic door wreath with step-by-step instructions. No experience is necessary.
LOCATION:Fullerton Museum Center 301 N. Pomona Ave. Fullerton\, CA 92832
UID:e.887.24235
SEQUENCE:3
DTSTAMP:20260421T165114Z
URL:https://business.nocchamber.com/events/details/fullerton-museum-center-creative-co-op-springtime-door-wreath-24235
END:VEVENT

END:VCALENDAR
