BEGIN:VCALENDAR
VERSION:2.0
PRODID:-//ChamberMaster//Event Calendar 2.0//EN
METHOD:PUBLISH
X-PUBLISHED-TTL:P3D
REFRESH-INTERVAL:P3D
CALSCALE:GREGORIAN
BEGIN:VEVENT
DTSTART:20181202T030000Z
DTEND:20181202T050000Z
X-MICROSOFT-CDO-ALLDAYEVENT:FALSE
SUMMARY:Fullerton Museum Center - Creative Co-Op
DESCRIPTION:Create one-of-a-kind holiday ornaments during City of Fullerton Shopping Soiree. Transparent glass globes provide endless possibilities for holiday decorating!
X-ALT-DESC;FMTTYPE=text/html:Create one-of-a-kind holiday ornaments during City of Fullerton Shopping Soiree. Transparent glass globes provide endless possibilities for holiday decorating!
LOCATION:Fullerton Museum Center 301 N. Pomona\, Fullerton
UID:e.887.22873
SEQUENCE:3
DTSTAMP:20260422T114115Z
URL:https://business.nocchamber.com/events/details/fullerton-museum-center-creative-co-op-22873
END:VEVENT

END:VCALENDAR
