BEGIN:VCALENDAR
VERSION:2.0
PRODID:-//ChamberMaster//Event Calendar 2.0//EN
METHOD:PUBLISH
X-PUBLISHED-TTL:P3D
REFRESH-INTERVAL:P3D
CALSCALE:GREGORIAN
BEGIN:VEVENT
DTSTART:20191109T030000Z
DTEND:20191109T050000Z
X-MICROSOFT-CDO-ALLDAYEVENT:FALSE
SUMMARY:Fullerton Museum Center Creative Co-op
DESCRIPTION:Join a casual painting class with wine that provides step-by-step instructions on how to make a Dandelion scene.
X-ALT-DESC;FMTTYPE=text/html:Join a casual painting class with wine that provides step-by-step instructions on how to make a Dandelion scene.
LOCATION:Fullerton Museum Center 301 N. Pomona Ave. Fullerton\, CA\, 92832
UID:e.887.23806
SEQUENCE:3
DTSTAMP:20260421T225619Z
URL:https://business.nocchamber.com/events/details/fullerton-museum-center-creative-co-op-11-08-2019-23806
END:VEVENT

END:VCALENDAR
