BEGIN:VCALENDAR
VERSION:2.0
PRODID:-//ChamberMaster//Event Calendar 2.0//EN
METHOD:PUBLISH
X-PUBLISHED-TTL:P3D
REFRESH-INTERVAL:P3D
CALSCALE:GREGORIAN
BEGIN:VEVENT
DTSTART:20200306T033000Z
DTEND:20200306T053000Z
X-MICROSOFT-CDO-ALLDAYEVENT:FALSE
SUMMARY:Fullerton Muckenthaler Center: Duo Violão Plus One
DESCRIPTION:The Muckenthaler Cultural Center will be bringing together Brazilian guitarists Rog rio Souza and Edinho Gerber with San Francisco percussionist Ami Molinelli\, a combination of Duo Viol o Plus One.\n\n\n\nDuo Viol o Plus One is inspired by the rich history of Brazilian musical style. Long before the emergence of bossa nova and samba\, choro took shape in 19th-century Rio de Janeiro as the first truly Brazilian musical style\, a confluence of popular European dance music like the polka and waltz with African rhythms\, particularly habanera (via Cuba) and Angolan lundu.
X-ALT-DESC;FMTTYPE=text/html:The Muckenthaler Cultural Center will be bringing together Brazilian guitarists&nbsp\;Rog&eacute\;rio Souza and Edinho Gerber with San Francisco percussionist Ami Molinelli\, a combination of Duo Viol&atilde\;o Plus One.<br />\n<br />\nDuo Viol&atilde\;o Plus One is inspired by the rich history of Brazilian musical style. Long before the emergence of bossa nova and samba\, choro took shape in 19th-century Rio de Janeiro as the first truly Brazilian musical style\, a confluence of popular European dance music like the polka and waltz with African rhythms\, particularly habanera (via Cuba) and Angolan lundu.
LOCATION:The Muckenthaler Cultural Center 1201 W. Malvern Ave. Fullerton\, CA 92833
UID:e.887.24239
SEQUENCE:3
DTSTAMP:20260421T165007Z
URL:https://business.nocchamber.com/events/details/fullerton-muckenthaler-center-duo-viol&#227;o-plus-one-24239
END:VEVENT

END:VCALENDAR
