BEGIN:VCALENDAR
VERSION:2.0
PRODID:-//ChamberMaster//Event Calendar 2.0//EN
METHOD:PUBLISH
X-PUBLISHED-TTL:P3D
REFRESH-INTERVAL:P3D
CALSCALE:GREGORIAN
BEGIN:VEVENT
DTSTART:20190527T170000Z
DTEND:20190527T190000Z
X-MICROSOFT-CDO-ALLDAYEVENT:FALSE
SUMMARY:Fullerton Memorial Day Ceremony 2019
DESCRIPTION:Join the city of Fullerton for their 81st Annual Memorial Day Commemoration on Monday\, May 27th.\n\n\n\nEvery year\, thousands from the community come and remember our fallen veterans by placing flags an crosses on over 3\,500 veterans laid to rest in our memorial park. The ceremony begins at 10:00am sharp.\n\n\n\nSponsored by American Veterans Memorial Association\, The City of Fullerton\, California\, and Loma Vista Memorial Park
X-ALT-DESC;FMTTYPE=text/html:Join the city of Fullerton for their 81st Annual Memorial Day Commemoration&nbsp\;on Monday\, May 27th.<br />\n<br />\nEvery year\, thousands from the community come and remember our fallen veterans by placing flags an crosses on over 3\,500 veterans laid to rest in our memorial park. The ceremony begins at 10:00am sharp.<br />\n<br />\nSponsored by American Veterans Memorial Association\, The City of Fullerton\, California\, and Loma Vista Memorial Park
LOCATION:Loma Vista Memorial Park 701 E. Bastanchury Rd. Fullerton\, CA 92835
UID:e.887.23322
SEQUENCE:3
DTSTAMP:20260422T053406Z
URL:https://business.nocchamber.com/events/details/fullerton-memorial-day-ceremony-2019-23322
END:VEVENT

END:VCALENDAR
