BEGIN:VCALENDAR
VERSION:2.0
PRODID:-//ChamberMaster//Event Calendar 2.0//EN
METHOD:PUBLISH
X-PUBLISHED-TTL:P3D
REFRESH-INTERVAL:P3D
CALSCALE:GREGORIAN
BEGIN:VEVENT
DTSTART:20200124T020000Z
DTEND:20200124T050000Z
X-MICROSOFT-CDO-ALLDAYEVENT:FALSE
SUMMARY:Fullerton Matador Cantina: Pathways of Hope Fundraiser
DESCRIPTION:The event have food\, dancing and fun for a great cause. Matador Cantina has partnered with Pathways of Hope to help raise awareness and funds to fight hunger and homelessness in North Orange County.  \n\n\n\nLive DJ\, food spread by Chef Dave\, and hand crafted cocktails all come together for a fun-filled evening.  Your $25 ticket includes entrance to the VIP party\, food\, 1 drink ticket\, and 1 raffle ticket. 100% of ticket sales and purchases will be donated to Pathways of Hope.
X-ALT-DESC;FMTTYPE=text/html:The event have food\, dancing and fun for a great cause. Matador Cantina has partnered with Pathways of Hope to help raise awareness and funds to fight hunger and homelessness in North Orange County.&nbsp\;&nbsp\;<br />\n<br />\nLive DJ\, food spread by Chef Dave\, and hand crafted cocktails all come together for a fun-filled evening.&nbsp\; Your $25 ticket includes entrance to the VIP party\, food\, 1 drink ticket\, and 1 raffle ticket. 100% of ticket sales and purchases will be donated to Pathways of Hope.&nbsp\;
LOCATION:Matador Cantina 111 N. Harbor Blvd. Fullerton\, CA 92832
UID:e.887.23916
SEQUENCE:3
DTSTAMP:20260421T191556Z
URL:https://business.nocchamber.com/events/details/fullerton-matador-cantina-pathways-of-hope-fundraiser-23916
END:VEVENT

END:VCALENDAR
