BEGIN:VCALENDAR
VERSION:2.0
PRODID:-//ChamberMaster//Event Calendar 2.0//EN
METHOD:PUBLISH
X-PUBLISHED-TTL:P3D
REFRESH-INTERVAL:P3D
CALSCALE:GREGORIAN
BEGIN:VEVENT
DTSTART:20180405T230000Z
DTEND:20180406T033000Z
X-MICROSOFT-CDO-ALLDAYEVENT:FALSE
SUMMARY:Fullerton Market
DESCRIPTION:The Fullerton Market is the place to come and enjoy fresh\, locally grown fruits and vegetables\, handcrafted artisan products\, live music and entertainment. The Market features an outdoor Beer and Wine Garden\, crafts and activities at the Kids' Korner\, food vendors such as fresh hummus and pita chips\, as well as a variety of on-site hot food vendors.
X-ALT-DESC;FMTTYPE=text/html:The Fullerton Market is&nbsp\;the&nbsp\;place to come and enjoy fresh\, locally grown fruits and vegetables\, handcrafted artisan products\, live music and entertainment. The Market features an outdoor Beer and Wine Garden\, crafts and activities at the Kids&#39\; Korner\, food vendors such as fresh hummus and pita chips\, as well as a variety of on-site hot food vendors.
LOCATION:The Downtown Fullerton Plaza located on Wilshire Avenue\, between Harbor Boulevard and Pomona Avenue\, adjacent to the Fullerton Museum Center.
UID:e.887.21295
SEQUENCE:3
DTSTAMP:20260422T004438Z
URL:https://business.nocchamber.com/events/details/fullerton-market-21295
END:VEVENT

END:VCALENDAR
