BEGIN:VCALENDAR
VERSION:2.0
PRODID:-//ChamberMaster//Event Calendar 2.0//EN
METHOD:PUBLISH
X-PUBLISHED-TTL:P3D
REFRESH-INTERVAL:P3D
CALSCALE:GREGORIAN
BEGIN:VEVENT
DTSTART:20170423T203000Z
DTEND:20170423T223000Z
X-MICROSOFT-CDO-ALLDAYEVENT:FALSE
SUMMARY:Fullerton Lions Club Charity Putting Tournament
DESCRIPTION:Charity Putting Tournament Benefiting Lions Charities.
X-ALT-DESC;FMTTYPE=text/html:Charity Putting Tournament Benefiting Lions Charities.
LOCATION:Golfer's Paradise 1600 N. Harbor Blvd. Fullerton\, CA 92835
UID:e.887.15998
SEQUENCE:3
DTSTAMP:20260421T120740Z
URL:https://business.nocchamber.com/events/details/fullerton-lions-club-charity-putting-tournament-15998
END:VEVENT

END:VCALENDAR
