BEGIN:VCALENDAR
VERSION:2.0
PRODID:-//ChamberMaster//Event Calendar 2.0//EN
METHOD:PUBLISH
X-PUBLISHED-TTL:P3D
REFRESH-INTERVAL:P3D
CALSCALE:GREGORIAN
BEGIN:VEVENT
DTSTART:20200228T180000Z
DTEND:20200228T200000Z
X-MICROSOFT-CDO-ALLDAYEVENT:FALSE
SUMMARY:Fullerton: La Sierra Careers Day and Resource Fair
DESCRIPTION:La Sierra High School is hosting their Adult Transition Program Careers Day and Resource Fair to offer assistance with job training\, job placement\, community involvement\, recreation\, use of public transportation\, and independent living.\n\n\n\nThe Careers Day and Resource Fair will also provide adult service providers a chance to share their information with students\, families\, staff\, and community members. Those presenting should bring literature on their program for approximately 200 students and families\, and plan to host an informational booth to showcase their agency's services. They are also responsible for bringing their own laptop to show any videos.
X-ALT-DESC;FMTTYPE=text/html:La Sierra High School is hosting their Adult Transition Program Careers Day and Resource Fair to offer assistance with job training\, job placement\, community involvement\, recreation\, use of public transportation\, and independent living.<br />\n<br />\nThe Careers Day and Resource Fair will also provide adult service providers a chance to share their information with students\, families\, staff\, and community members. Those presenting should bring literature on their program for approximately 200 students and families\, and plan to host an informational booth to showcase their agency&#39\;s services. They are also responsible for bringing their own laptop to show any videos.&nbsp\;
LOCATION:Titan Student Union\, California State University\, Fullerton 800 N State College Blvd. Fullerton\, CA 92831
UID:e.887.24096
SEQUENCE:3
DTSTAMP:20260421T181028Z
URL:https://business.nocchamber.com/events/details/fullerton-la-sierra-careers-day-and-resource-fair-24096
END:VEVENT

END:VCALENDAR
