BEGIN:VCALENDAR
VERSION:2.0
PRODID:-//ChamberMaster//Event Calendar 2.0//EN
METHOD:PUBLISH
X-PUBLISHED-TTL:P3D
REFRESH-INTERVAL:P3D
CALSCALE:GREGORIAN
BEGIN:VEVENT
DTSTART:20200220T010000Z
DTEND:20200220T063000Z
X-MICROSOFT-CDO-ALLDAYEVENT:FALSE
SUMMARY:Fullerton - Khan Saab Desi Craft Kitchen Grand Opening
DESCRIPTION:Grand Opening for a new Fullerton restaurant - Khan Saab Desi Craft Kitchen. \n\n\n\nKhan Saab will have henna artists and dinner service.
X-ALT-DESC;FMTTYPE=text/html:Grand Opening for a new Fullerton restaurant - Khan Saab Desi Craft Kitchen.&nbsp\;<br />\n<br />\nKhan Saab will have henna artists and dinner service.&nbsp\;
LOCATION:Khan Saab 229 E. Commonwealth Ave. Fullerton\, CA 92832
UID:e.887.24110
SEQUENCE:3
DTSTAMP:20260421T180324Z
URL:https://business.nocchamber.com/events/details/fullerton-khan-saab-desi-craft-kitchen-grand-opening-24110
END:VEVENT

END:VCALENDAR
