BEGIN:VCALENDAR
VERSION:2.0
PRODID:-//ChamberMaster//Event Calendar 2.0//EN
METHOD:PUBLISH
X-PUBLISHED-TTL:P3D
REFRESH-INTERVAL:P3D
CALSCALE:GREGORIAN
BEGIN:VEVENT
DTSTART:20190822T000000Z
DTEND:20190822T010000Z
X-MICROSOFT-CDO-ALLDAYEVENT:FALSE
SUMMARY:Fullerton Grocery Outlet and K-EARTH 101 You & Who Promotion
DESCRIPTION:Join  Grocery Outlet and K-EARTH 101 on Wednesday\, 8/21\, 5-6pm.  Pick up a $5 Grocery Outlet gift card.* Plus\, enter for a chance to win FREE groceries for a year! While you're here\, check out the Ram 1500 Trucks from  K-EARTH 101's You & Who promotion!\n\n*Gift cards will be given out to the first 50 customers to show up on 8/21\, 5-6pm at Fullerton Grocery Outlet 120 N. Raymond Ave.\, Fullerton\, CA.\n\nCheck out official guidelines to learn more.
X-ALT-DESC;FMTTYPE=text/html:<p>Join&nbsp\; Grocery Outlet and K-EARTH 101 on&nbsp\;Wednesday\, 8/21\, 5-6pm.&nbsp\; Pick up a&nbsp\;$5 Grocery Outlet gift card.* Plus\,&nbsp\;enter for a chance to win FREE groceries for a year! While you&rsquo\;re here\, check out the Ram 1500 Trucks from&nbsp\;&nbsp\;<a data-auth="NotApplicable" href="http://click.groceryoutletbargains.com/?qs=3b3cac5f2a3d6761b074944f4f2b13abf18e6ab08e4dc2a81dbcf912d7f466fb5e7f7ed803e03fd3f83b3b4e960bd0b5" rel="noopener noreferrer" target="_blank">K-EARTH 101</a>&#39\;s You&nbsp\;&amp\; Who&nbsp\;promotion!</p>\n\n<p>*Gift cards will be given out to the first 50 customers to show up on 8/21\, 5-6pm at Fullerton Grocery Outlet 120 N. Raymond Ave.\, Fullerton\, CA.</p>\n\n<p>Check out <a href="https://kearth101.radio.com/general-contest-rules?fbclid=IwAR2QgT6lkG_acq-BZNXrzlAQDi8kR4EIOU_euclM6k7_rOGAId9xu-hEnMU" target="_blank">official guidelines</a> to learn more.</p>\n
LOCATION:Fullerton Grocery Outlet 120 N Raymond Ave Fullerton\, CA 92831
UID:e.887.23670
SEQUENCE:3
DTSTAMP:20260422T015744Z
URL:https://business.nocchamber.com/events/details/fullerton-grocery-outlet-and-k-earth-101-you-who-promotion-23670
END:VEVENT

END:VCALENDAR
