BEGIN:VCALENDAR
VERSION:2.0
PRODID:-//ChamberMaster//Event Calendar 2.0//EN
METHOD:PUBLISH
X-PUBLISHED-TTL:P3D
REFRESH-INTERVAL:P3D
CALSCALE:GREGORIAN
BEGIN:VEVENT
DTSTART:20200205T220000Z
DTEND:20200206T010000Z
X-MICROSOFT-CDO-ALLDAYEVENT:FALSE
SUMMARY:Fullerton: Fair Housing Workshop
DESCRIPTION:The Fair Housing Workshop\, organized by the Fair Housing Foundation\, offers tenants\, landlords\, managers\, property owners\, attorneys\, realtors\, and management companies an opportunity to learn about the new statewide laws that came into effect earlier this year.\n\n	Federal and State Fair Housing Laws\n	Housing Discrimination\n	Modifications and Accommodation\n	Rental Application Process\n	General Guidelines\n	Families with Children\n	Notices\n	Evictions Process\n	Security Deposits\n	Habitability & Repairs\n	Rent Increases\n	Occupancy Standards
X-ALT-DESC;FMTTYPE=text/html:The Fair Housing Workshop\, organized by the Fair Housing Foundation\, offers tenants\, landlords\, managers\, property owners\, attorneys\, realtors\, and management companies an opportunity to learn about the new statewide laws that came into effect earlier this year.\n<ul>\n	<li>Federal and State Fair Housing Laws</li>\n	<li>Housing Discrimination</li>\n	<li>Modifications and Accommodation</li>\n	<li>Rental Application Process</li>\n	<li>General Guidelines</li>\n	<li>Families with Children</li>\n	<li>Notices</li>\n	<li>Evictions Process</li>\n	<li>Security Deposits</li>\n	<li>Habitability &amp\; Repairs</li>\n	<li>Rent Increases</li>\n	<li>Occupancy Standards</li>\n</ul>\n
LOCATION:Fullerton Library 353 W. Commonwealth Ave. Fullerton\, CA 92832
UID:e.887.24094
SEQUENCE:3
DTSTAMP:20260421T175932Z
URL:https://business.nocchamber.com/events/details/fullerton-fair-housing-workshop-24094
END:VEVENT

END:VCALENDAR
