BEGIN:VCALENDAR
VERSION:2.0
PRODID:-//ChamberMaster//Event Calendar 2.0//EN
METHOD:PUBLISH
X-PUBLISHED-TTL:P3D
REFRESH-INTERVAL:P3D
CALSCALE:GREGORIAN
BEGIN:VEVENT
DTSTART:20200215T030000Z
DTEND:20200215T050000Z
X-MICROSOFT-CDO-ALLDAYEVENT:FALSE
SUMMARY:Fullerton: Creative Co-Op Wine and Paint Night
DESCRIPTION:The Fullerton Museum Center is hosting a Creative Co-Op Wine and Paint Night for Valentine's Day featuring a workshop on Van Gogh's Couples Starry Night.
X-ALT-DESC;FMTTYPE=text/html:The Fullerton Museum Center is hosting a Creative Co-Op Wine and Paint Night for Valentine&#39\;s Day featuring a workshop on Van Gogh&#39\;s Couples Starry Night.&nbsp\;
LOCATION:Fullerton Museum Center 301 N Pomona Ave. Fullerton\, CA 92832
UID:e.887.24098
SEQUENCE:3
DTSTAMP:20260421T180116Z
URL:https://business.nocchamber.com/events/details/fullerton-creative-co-op-wine-and-paint-night-24098
END:VEVENT

END:VCALENDAR
