BEGIN:VCALENDAR
VERSION:2.0
PRODID:-//ChamberMaster//Event Calendar 2.0//EN
METHOD:PUBLISH
X-PUBLISHED-TTL:P3D
REFRESH-INTERVAL:P3D
CALSCALE:GREGORIAN
BEGIN:VEVENT
DTSTART:20190817T160000Z
DTEND:20190817T173000Z
X-MICROSOFT-CDO-ALLDAYEVENT:FALSE
SUMMARY:Fullerton Community Coffee
DESCRIPTION:Join Senator Ling Ling Chang and Mayor Pro Tem Jennifer Fitzgerald for some coffee and conversation.
X-ALT-DESC;FMTTYPE=text/html:Join Senator Ling Ling Chang and Mayor Pro Tem Jennifer Fitzgerald for some coffee and conversation.
LOCATION:Pilgrim's Coffee House 124 W Wilshire Ave. Fullerton\, CA 92832
UID:e.887.23601
SEQUENCE:3
DTSTAMP:20260422T015126Z
URL:https://business.nocchamber.com/events/details/fullerton-community-coffee-23601
END:VEVENT

END:VCALENDAR
