BEGIN:VCALENDAR
VERSION:2.0
PRODID:-//ChamberMaster//Event Calendar 2.0//EN
METHOD:PUBLISH
X-PUBLISHED-TTL:P3D
REFRESH-INTERVAL:P3D
CALSCALE:GREGORIAN
BEGIN:VEVENT
DTSTART:20190810T170000Z
DTEND:20190810T200000Z
X-MICROSOFT-CDO-ALLDAYEVENT:FALSE
SUMMARY:Fullerton Community Center - 5th Annual Health & Wellness Fair
DESCRIPTION:The 5th annual Health & Wellness Fair event will be held at the Fullerton Community Center\, on Saturday\, August 10th\, 2019 from 10:00 a.m. to 1:00 p.m.\n\nLearn how to live longer\, better and happier\, check out new ideas to improve your lifestyle and sense of well-being. In addition to the medical screenings\, a variety of local non-profit agencies and businesses will be available to share information about their programs\, services and products.\n\nKey feature areas:\n\n\n	Fitness\n	Wellness\n	Nutrition\n	Family & Mental Health\n	Interactive Workshops\n	Weight Loss\n	Medical Insurance\n	Dental Health\n	Kid's Healthy Zone\n\n\n and many door prizes we have to give away.\n\nLearn the benefits of being healthy\, being pain free or reducing your pain levels. Find out what's new in alternative medicine\, nutrition\, organic foods\, going green and so much more!\n\nAdmission to the fair is free\, and pre-registration is not required. Youth and adults are all welcome.\n\nThe Center strives to provide programs and services that promote health and wellness\, social interaction and overall well-being for patrons in Fullerton and surrounding areas.\n\nFor more information on the Health & Wellness Fair\, to be an exhibitor\, sponsorships\, contact the Fullerton Community Center at 714-738-6575.
X-ALT-DESC;FMTTYPE=text/html:<p new="" times="">The 5th annual Health &amp\; Wellness Fair&nbsp\;event will be held at the Fullerton Community Center\, on Saturday\, August 10th\, 2019 from 10:00 a.m. to 1:00 p.m.</p>\n\n<p new="" times="">Learn how to live longer\, better and happier\, check out new ideas to improve your lifestyle and sense of well-being. In addition to the medical screenings\, a variety of local non-profit agencies and businesses will be available to share information about their programs\, services and products.</p>\n\n<p new="" times="">Key feature areas:</p>\n\n<ul new="" times="">\n	<li>Fitness</li>\n	<li>Wellness</li>\n	<li>Nutrition</li>\n	<li>Family &amp\; Mental Health</li>\n	<li>Interactive Workshops</li>\n	<li>Weight Loss</li>\n	<li>Medical Insurance</li>\n	<li>Dental Health</li>\n	<li>Kid&rsquo\;s Healthy Zone</li>\n</ul>\n\n<p new="" times="">&hellip\;and many door prizes&nbsp\;we have to&nbsp\;give away.</p>\n\n<p new="" times="">Learn the benefits of being healthy\, being pain free or reducing your pain levels. Find out what&rsquo\;s new in alternative medicine\, nutrition\, organic foods\, going green and so much more!</p>\n\n<p new="" times="">Admission to the fair is free\, and pre-registration is not required. Youth and adults are all welcome.</p>\n\n<p new="" times="">The Center strives to provide programs and services that promote health and wellness\, social interaction and overall well-being for patrons in Fullerton and surrounding areas.</p>\n\n<p new="" times="">For more information on the Health &amp\; Wellness Fair\, to be an exhibitor\, sponsorships\, contact the Fullerton Community Center at 714-738-6575.</p>\n
LOCATION:Fullerton Community Center 340 W. Commonwealth Ave. Fullerton\, CA 92832
UID:e.887.23656
SEQUENCE:3
DTSTAMP:20260422T015702Z
URL:https://business.nocchamber.com/events/details/fullerton-community-center-5th-annual-health-wellness-fair-23656
END:VEVENT

END:VCALENDAR
