BEGIN:VCALENDAR
VERSION:2.0
PRODID:-//ChamberMaster//Event Calendar 2.0//EN
METHOD:PUBLISH
X-PUBLISHED-TTL:P3D
REFRESH-INTERVAL:P3D
CALSCALE:GREGORIAN
BEGIN:VEVENT
DTSTART:20190603T150000Z
DTEND:20190604T010000Z
X-MICROSOFT-CDO-ALLDAYEVENT:FALSE
SUMMARY:Fullerton College Veterans Golf Classic
DESCRIPTION:Fullerton College's Veterans Resource Center is hosting the first Veterans Golf Classic to support student-veterans. Numerous sponsorship and volunteer opportunities are available. All proceeds will benefit student-veterans and the Fullerton College Veterans Resource Center.
X-ALT-DESC;FMTTYPE=text/html:Fullerton College&#39\;s Veterans Resource Center is hosting the first Veterans Golf Classic to support student-veterans. Numerous sponsorship and volunteer opportunities are available. All proceeds will benefit student-veterans and the Fullerton College Veterans Resource Center.
LOCATION:Western Hills Country Club 1800 Carbon Canyon Road Chino Hills\, CA 91709
UID:e.887.23110
SEQUENCE:3
DTSTAMP:20260422T041638Z
URL:https://business.nocchamber.com/events/details/fullerton-college-veterans-golf-classic-23110
END:VEVENT

END:VCALENDAR
